BEGIN:VCALENDAR
VERSION:2.0
PRODID:-//Zinor / Collectif Icroacoa Montaigu - ECPv6.10.1.1//NONSGML v1.0//EN
CALSCALE:GREGORIAN
METHOD:PUBLISH
X-WR-CALNAME:Zinor / Collectif Icroacoa Montaigu
X-ORIGINAL-URL:https://zinor.fr
X-WR-CALDESC:Évènements pour Zinor / Collectif Icroacoa Montaigu
REFRESH-INTERVAL;VALUE=DURATION:PT1H
X-Robots-Tag:noindex
X-PUBLISHED-TTL:PT1H
BEGIN:VTIMEZONE
TZID:UTC
BEGIN:STANDARD
TZOFFSETFROM:+0000
TZOFFSETTO:+0000
TZNAME:UTC
DTSTART:20130101T000000
END:STANDARD
END:VTIMEZONE
BEGIN:VEVENT
DTSTART;TZID=UTC:20130329T210000
DTEND;TZID=UTC:20130329T233000
DTSTAMP:20260422T031229
CREATED:20160811T072427Z
LAST-MODIFIED:20161006T084550Z
UID:7797-1364590800-1364599800@zinor.fr
SUMMARY:29 03 2013 Back to the 90's
DESCRIPTION:Soirée Djs : Back to the 90’s\n \n  \nHeyoka se prend pour Marty McFly et vous amène « Back to the future ». \nAlors enfile ton T-shirt Fido Dido et ton jogging à pressions\, mets ta Nintendo dans ton sac banane\, accroche ton Discman à ta ceinture cloutée et rejoint nous à 21h au Zinor. \nOn te fera sûrement pas danser avec les Loups mais on a un « sixième sens » et tu verra que nos Djs 90’s vont faire chauffer tes Filas! \nINFOS : \n21h / 5€ \n  \n 
URL:https://zinor.fr/a-faire/29-03-2013-back-to-the-90s/
LOCATION:Le Zinor\, 191\, rue du Moulin Gros\, ZA Nord et Gare\, Montaigu-Vendée\, 85600\, France
CATEGORIES:Au Zinor
END:VEVENT
END:VCALENDAR