BEGIN:VCALENDAR
VERSION:2.0
PRODID:-//Zinor / Collectif Icroacoa Montaigu - ECPv6.10.1.1//NONSGML v1.0//EN
CALSCALE:GREGORIAN
METHOD:PUBLISH
X-ORIGINAL-URL:https://zinor.fr
X-WR-CALDESC:Évènements pour Zinor / Collectif Icroacoa Montaigu
REFRESH-INTERVAL;VALUE=DURATION:PT1H
X-Robots-Tag:noindex
X-PUBLISHED-TTL:PT1H
BEGIN:VTIMEZONE
TZID:UTC
BEGIN:STANDARD
TZOFFSETFROM:+0000
TZOFFSETTO:+0000
TZNAME:UTC
DTSTART:20130101T000000
END:STANDARD
END:VTIMEZONE
BEGIN:VEVENT
DTSTART;TZID=UTC:20130330T180000
DTEND;TZID=UTC:20130330T230000
DTSTAMP:20260421T231352
CREATED:20160811T072428Z
LAST-MODIFIED:20161005T095320Z
UID:7807-1364666400-1364684400@zinor.fr
SUMMARY:Les 15 ans de Carrousel (30 Mars 2013)
DESCRIPTION:
URL:https://zinor.fr/a-faire/les-15-ans-de-carrousel-30-mars-2013/
END:VEVENT
END:VCALENDAR