BEGIN:VCALENDAR
VERSION:2.0
PRODID:-//Zinor / Collectif Icroacoa Montaigu - ECPv6.10.1.1//NONSGML v1.0//EN
CALSCALE:GREGORIAN
METHOD:PUBLISH
X-WR-CALNAME:Zinor / Collectif Icroacoa Montaigu
X-ORIGINAL-URL:https://zinor.fr
X-WR-CALDESC:Évènements pour Zinor / Collectif Icroacoa Montaigu
REFRESH-INTERVAL;VALUE=DURATION:PT1H
X-Robots-Tag:noindex
X-PUBLISHED-TTL:PT1H
BEGIN:VTIMEZONE
TZID:UTC
BEGIN:STANDARD
TZOFFSETFROM:+0000
TZOFFSETTO:+0000
TZNAME:UTC
DTSTART:20130101T000000
END:STANDARD
END:VTIMEZONE
BEGIN:VEVENT
DTSTART;TZID=UTC:20130411T200000
DTEND;TZID=UTC:20130411T230000
DTSTAMP:20260421T220346
CREATED:20160811T072427Z
LAST-MODIFIED:20161006T084747Z
UID:7799-1365710400-1365721200@zinor.fr
SUMMARY:11 04 2013 DYS TRYO + BAGARRE GENERALE + LE SINGE BLANC
DESCRIPTION:Soirée organisée par 4 assos du collectif! Un concert qui fait l’unanimité!\n \n  \nDYS TRIO (Jazz rock progressif\, Saint Lumine De Clisson) \nÉvidemment c’est un trio avec basse\, batterie et saxophone ténor et alto\, tout droit sorti d’un collectif d’improvisation. Ils jouent un jazz rock groovy et progressif laissant place à quelques parties improvisées. Leur influences Zappa\, Gong\, Zu… \nmyspace /  facebook \n– \n[dailymotion xgld72] \n  \nBAGARRE GENERALE (Métal retro-futuriste\, Bordeaux) \n« Bagarre Générale c’est une musique épique\, massive et irréelle où les cuivres se mélangent aux guitares pour dérouler des beignes soniques et accoucher d’un magma de terreur soutenu par une section rythmique implacable et insatiable. » \nbandcamp / facebook \n  \nLE SINGE BLANC (Groovy Rock –  Metz) \n \nTrio messins à deux basses/chants/batterie largement influencé par Primus\, mais qui conserve une identité forte. Leur concert est une invitation à une danse névrotique\, bestiale et répétitive… \n site / bandcamp / facebook \n– \n[youtube XkCr2XOP6nY] \n  \nINFOS \nSoirée organisée par les assos AINU\, OTO\, ARTSONIC\, et CRUMBLE FIGHT \nZINOR\, Rue du Moulin Gros\, 85600 Montaigu \n20h00 / 6€ / ainu@live.fr
URL:https://zinor.fr/a-faire/11-04-2013-dys-tryo-bagarre-generale-le-singe-blanc/
LOCATION:Le Zinor\, 191\, rue du Moulin Gros\, ZA Nord et Gare\, Montaigu-Vendée\, 85600\, France
CATEGORIES:Au Zinor
ORGANIZER;CN="A%C3%AFnu":MAILTO:ainurecord@live.fr
END:VEVENT
END:VCALENDAR