BEGIN:VCALENDAR
VERSION:2.0
PRODID:-//Zinor / Collectif Icroacoa Montaigu - ECPv6.10.1.1//NONSGML v1.0//EN
CALSCALE:GREGORIAN
METHOD:PUBLISH
X-ORIGINAL-URL:https://zinor.fr
X-WR-CALDESC:Évènements pour Zinor / Collectif Icroacoa Montaigu
REFRESH-INTERVAL;VALUE=DURATION:PT1H
X-Robots-Tag:noindex
X-PUBLISHED-TTL:PT1H
BEGIN:VTIMEZONE
TZID:UTC
BEGIN:STANDARD
TZOFFSETFROM:+0000
TZOFFSETTO:+0000
TZNAME:UTC
DTSTART:20130101T000000
END:STANDARD
END:VTIMEZONE
BEGIN:VEVENT
DTSTART;TZID=UTC:20130426T203000
DTEND;TZID=UTC:20130426T230000
DTSTAMP:20260421T220936
CREATED:20160811T072427Z
LAST-MODIFIED:20161006T085057Z
UID:7802-1367008200-1367017200@zinor.fr
SUMMARY:26 04 2013 MACROGOL + PIERRE & BASTIEN + DAIKIRI + DON VITO
DESCRIPTION:MACROGOL (Death grind –  Nantes) \nC’est avec grand plaisir que Ainu organise leur tout premier concert\, c’est aussi leur tout premier groupe\, leurs influences sont Carcass\, Repulsion\, Immured et Nirvana 2002. \n  \nPIERRE & BASTIEN (Punk rock – Paris) \nP & B nous évoque les groupes punk rock des années 80. Du basique viscéral qui\, en français dans le texte\, aborde les thèmes suivant : le RMI\, la misère sexuelle\, le cancer…. Leur musique déflagratrice atteint en concert des sommets d’intensité. \nsite / soundcloud \n– \n[youtube xgGB-XI9iNc] \n  \nDAIKIRI  (Noise – Metz\, Liepzig) \n  \nDaikiri est un duo basse batterie avec les pieds de Mister Möbius et des doigts du Singe Blanc. On pense tout de suite à Melt Banana à l’écoute de leurs morceaux. \nbandcamp / facebook \n  \n[youtube DPo9UqPKOAw] \n  \nDON VITO (Wall of Noise – Liepzig) \nDon Vito c’est le Noise rock comme il devrait être\, à trois\, à la sauce Load records\, pense à Lightning Bolt\, Pink & Brown ou la version noise et abrutie de Sunn O))) c’est simple\, ils niquent tout !!! \nbandcamp /  facebook / myspace \n– \n[youtube eXfAIjMQVQY] \n\n  \nVENGEANCE (Punk\, power violence – Angoulème) \nFormé en 2010 Vengeance c’est du hxc punk ultra violent des années 80\, qui rappelle Despise You\, avec 3 chants dont un féminin. Ils n’ont pas la prétention de réinventer le power violence mais ils le font sacrément bien!  \nsite / bandcamp \n\n  \nINFOS \nainu@live.fr / ainurecords.com / 20h30 / 6€
URL:https://zinor.fr/a-faire/26-04-2013-macrogol-pierre-bastien-daikiri-don-vito/
LOCATION:Le Zinor\, 191\, rue du Moulin Gros\, ZA Nord et Gare\, Montaigu-Vendée\, 85600\, France
CATEGORIES:Au Zinor
ORGANIZER;CN="A%C3%AFnu":MAILTO:ainurecord@live.fr
END:VEVENT
END:VCALENDAR