BEGIN:VCALENDAR
VERSION:2.0
PRODID:-//Zinor / Collectif Icroacoa Montaigu - ECPv6.10.1.1//NONSGML v1.0//EN
CALSCALE:GREGORIAN
METHOD:PUBLISH
X-WR-CALNAME:Zinor / Collectif Icroacoa Montaigu
X-ORIGINAL-URL:https://zinor.fr
X-WR-CALDESC:Évènements pour Zinor / Collectif Icroacoa Montaigu
REFRESH-INTERVAL;VALUE=DURATION:PT1H
X-Robots-Tag:noindex
X-PUBLISHED-TTL:PT1H
BEGIN:VTIMEZONE
TZID:UTC
BEGIN:STANDARD
TZOFFSETFROM:+0000
TZOFFSETTO:+0000
TZNAME:UTC
DTSTART:20130101T000000
END:STANDARD
END:VTIMEZONE
BEGIN:VEVENT
DTSTART;TZID=UTC:20130504T203000
DTEND;TZID=UTC:20130504T230000
DTSTAMP:20260421T202118
CREATED:20160811T072427Z
LAST-MODIFIED:20161006T085207Z
UID:7803-1367699400-1367708400@zinor.fr
SUMMARY:04 05 2013 MACROGOL + CONGO + ZOMBIEFICATION + PIRANA + RICHARD DURN
DESCRIPTION:MACROGOL (Death grind\, Nantes)\nDeuxième concert pour ce jeune groupe influencé par Carcass\, Repulsion\, Immured et Nirvana 2002. \n  \nCONGO (World noise\, Brest/Rouen) \nUn groupe exotique mélangeant allégrement math-rock puissant\, free-rock débridé\, easy-listening décalé\, furie noise-rock d’obédience Trans Am et même quelques zestes de zouk à l’aide d’une batterie\, de claviers et d’un violoncelle. \nsite \n[youtube V_CE4Dm7MQk] \n  \nZOMBIEFICATION (Death old school\, Mexique) \nNon ce groupe n’est pas suèdois mais bien mexicain\, en effet ce grain de guitare nous mets le doute\, ce son si épais et goudronneux comparable à une coulée de boue ravageant tout sur son passage propre à Entombed ou Dismember. \nsite / myspace / facebook \n[youtube Ynls72Y7k4g] \n  \nPIRANA (Thrash metal\, Mexique) \nLe Mexique nous envoit sa formation thrash métal au même titre que Violator pour le Brésil donc ressortez les spandex\, les casquettes fluos et les baskets en tissu montantes\, ça va swinguer dans la plus pure tradition « old school »! Caramba! \nmyspace \n[youtube SBsPtrW1KKA] \n  \nRICHARD DURN (Fast punk\, Nancy) \nRichard Durn c’est du hardcore plutôt original\, du powerviolence électronique avec des partie thrash/métal/sludge\, le tout sur de bonnes paroles conscientes\, bref ça sort du commun. \nsite /video \n  \nINFOS \n20h30 / 6€ / ainu@live.fr / ainurecords.com
URL:https://zinor.fr/a-faire/04-05-2013-macrogol-congo-zombiefication-pirana-richard-durn/
LOCATION:Le Zinor\, 191\, rue du Moulin Gros\, ZA Nord et Gare\, Montaigu-Vendée\, 85600\, France
CATEGORIES:Au Zinor
ORGANIZER;CN="A%C3%AFnu":MAILTO:ainurecord@live.fr
END:VEVENT
END:VCALENDAR