BEGIN:VCALENDAR
VERSION:2.0
PRODID:-//Zinor / Collectif Icroacoa Montaigu - ECPv6.10.1.1//NONSGML v1.0//EN
CALSCALE:GREGORIAN
METHOD:PUBLISH
X-WR-CALNAME:Zinor / Collectif Icroacoa Montaigu
X-ORIGINAL-URL:https://zinor.fr
X-WR-CALDESC:Évènements pour Zinor / Collectif Icroacoa Montaigu
REFRESH-INTERVAL;VALUE=DURATION:PT1H
X-Robots-Tag:noindex
X-PUBLISHED-TTL:PT1H
BEGIN:VTIMEZONE
TZID:UTC
BEGIN:STANDARD
TZOFFSETFROM:+0000
TZOFFSETTO:+0000
TZNAME:UTC
DTSTART:20130101T000000
END:STANDARD
END:VTIMEZONE
BEGIN:VEVENT
DTSTART;TZID=UTC:20130511T200000
DTEND;TZID=UTC:20130511T230000
DTSTAMP:20260421T202226
CREATED:20160811T072428Z
LAST-MODIFIED:20161005T152226Z
UID:7812-1368302400-1368313200@zinor.fr
SUMMARY:11 05 2013 Monty Picon et Nefertiti and the Kitchen
DESCRIPTION:Out of the Street !\n \nNEFERTITI IN THE KITCHEN \nNefertiti in the Kitchen est le projet solo de la musicienne-comédienne Jen Rival (Cie Bluffonne) accompagnée par le multi-instrumentiste Nicolas Méheust (Dominique A\, Chien vert\, Strupx). \nEntre jazz\, blues\, rock et folk\, la « Lady blues » à la voix charnelle et sensible livre une collection de chansonnettes douces-amères faites de bric et de broc : boite à musique\, guitare électrique\, mellotron et noisy drums. Un cabaret rock à l’italienne où se mélange allègrement Kurt Weill et Tom Waits. \nbandcamp \n[youtube GKSHEBVpB-0] \nMONTY PICON \nAprès avoir écumé les villes de France et de Belgique avec son spectacle de rue «S’il en reste… Ils reviendront»\, Monty Picon s’apprête à prendre d’assaut les scènes avec un show toujours plus Rock’n Roll. \nNouveau spectacle\, nouveau son\, nouvelle formule : les Monty sortent le grand jeu et pour cela\, ils n’ont pas hésité à rebattre leurs cartes. \nsite \n[youtube ZKH8Z5_Dc30] \nDJ REMAKE \nUn set chaud bouillant qui fera danser même les plus coincés ! \nINFOS \n5€ / 20h30
URL:https://zinor.fr/a-faire/11-05-2013-monty-picon-et-nefertiti-and-the-kitchen/
LOCATION:Le Zinor\, 191\, rue du Moulin Gros\, ZA Nord et Gare\, Montaigu-Vendée\, 85600\, France
CATEGORIES:Au Zinor
END:VEVENT
END:VCALENDAR