BEGIN:VCALENDAR
VERSION:2.0
PRODID:-//Zinor / Collectif Icroacoa Montaigu - ECPv6.10.1.1//NONSGML v1.0//EN
CALSCALE:GREGORIAN
METHOD:PUBLISH
X-ORIGINAL-URL:https://zinor.fr
X-WR-CALDESC:Évènements pour Zinor / Collectif Icroacoa Montaigu
REFRESH-INTERVAL;VALUE=DURATION:PT1H
X-Robots-Tag:noindex
X-PUBLISHED-TTL:PT1H
BEGIN:VTIMEZONE
TZID:UTC
BEGIN:STANDARD
TZOFFSETFROM:+0000
TZOFFSETTO:+0000
TZNAME:UTC
DTSTART:20130101T000000
END:STANDARD
END:VTIMEZONE
BEGIN:VEVENT
DTSTART;TZID=UTC:20130607T000000
DTEND;TZID=UTC:20130608T000000
DTSTAMP:20260421T185254
CREATED:20160811T072431Z
LAST-MODIFIED:20161005T094009Z
UID:7835-1370563200-1370649600@zinor.fr
SUMMARY:Zin A Dub (7 & 8 Juin 2013)
DESCRIPTION:
URL:https://zinor.fr/a-faire/zin-a-dub-7-8-juin-2013/
END:VEVENT
END:VCALENDAR