BEGIN:VCALENDAR
VERSION:2.0
PRODID:-//Zinor / Collectif Icroacoa Montaigu - ECPv6.10.1.1//NONSGML v1.0//EN
CALSCALE:GREGORIAN
METHOD:PUBLISH
X-WR-CALNAME:Zinor / Collectif Icroacoa Montaigu
X-ORIGINAL-URL:https://zinor.fr
X-WR-CALDESC:Évènements pour Zinor / Collectif Icroacoa Montaigu
REFRESH-INTERVAL;VALUE=DURATION:PT1H
X-Robots-Tag:noindex
X-PUBLISHED-TTL:PT1H
BEGIN:VTIMEZONE
TZID:UTC
BEGIN:STANDARD
TZOFFSETFROM:+0000
TZOFFSETTO:+0000
TZNAME:UTC
DTSTART:20130101T000000
END:STANDARD
END:VTIMEZONE
BEGIN:VEVENT
DTSTART;TZID=UTC:20130621T000000
DTEND;TZID=UTC:20130621T000000
DTSTAMP:20260421T184822
CREATED:20160811T072431Z
LAST-MODIFIED:20161005T093943Z
UID:7834-1371772800-1371772800@zinor.fr
SUMMARY:Fête de la musique 2013 @ Montaigu
DESCRIPTION:
URL:https://zinor.fr/a-faire/fete-de-la-musique-2013-montaigu/
END:VEVENT
END:VCALENDAR