BEGIN:VCALENDAR
VERSION:2.0
PRODID:-//Zinor / Collectif Icroacoa Montaigu - ECPv6.10.1.1//NONSGML v1.0//EN
CALSCALE:GREGORIAN
METHOD:PUBLISH
X-ORIGINAL-URL:https://zinor.fr
X-WR-CALDESC:Évènements pour Zinor / Collectif Icroacoa Montaigu
REFRESH-INTERVAL;VALUE=DURATION:PT1H
X-Robots-Tag:noindex
X-PUBLISHED-TTL:PT1H
BEGIN:VTIMEZONE
TZID:UTC
BEGIN:STANDARD
TZOFFSETFROM:+0000
TZOFFSETTO:+0000
TZNAME:UTC
DTSTART:20130101T000000
END:STANDARD
END:VTIMEZONE
BEGIN:VEVENT
DTSTART;TZID=UTC:20130805T190000
DTEND;TZID=UTC:20130805T230000
DTSTAMP:20260421T152145
CREATED:20160811T072429Z
LAST-MODIFIED:20161005T095018Z
UID:7820-1375729200-1375743600@zinor.fr
SUMMARY:05 08 2013 SKELETAL REMAINS + BLASPHEM + HIDING INSIDE VICTIMS
DESCRIPTION:RUE BARON (AINU SHOW) PRÉSENTS :\n \nSKELETAL REMAINS (Californian Old School Death Metal Revelation) \nfacebook \n[youtube eyFhwu22LgQ] \nBLASPHEM (Venezualian Death/Thrash) \nHINDING INSIDE VICTIMS (Crust Melodic from Portland) \nfacebook \nINFOS \n20h30 / 6€ / ainu@live.fr
URL:https://zinor.fr/a-faire/05-08-2013-skeletal-remains-blasphem-hiding-inside-victims/
LOCATION:Le Zinor\, 191\, rue du Moulin Gros\, ZA Nord et Gare\, Montaigu-Vendée\, 85600\, France
CATEGORIES:Au Zinor
ORGANIZER;CN="A%C3%AFnu":MAILTO:ainurecord@live.fr
END:VEVENT
END:VCALENDAR