BEGIN:VCALENDAR
VERSION:2.0
PRODID:-//Zinor / Collectif Icroacoa Montaigu - ECPv6.10.1.1//NONSGML v1.0//EN
CALSCALE:GREGORIAN
METHOD:PUBLISH
X-ORIGINAL-URL:https://zinor.fr
X-WR-CALDESC:Évènements pour Zinor / Collectif Icroacoa Montaigu
REFRESH-INTERVAL;VALUE=DURATION:PT1H
X-Robots-Tag:noindex
X-PUBLISHED-TTL:PT1H
BEGIN:VTIMEZONE
TZID:UTC
BEGIN:STANDARD
TZOFFSETFROM:+0000
TZOFFSETTO:+0000
TZNAME:UTC
DTSTART:20130101T000000
END:STANDARD
END:VTIMEZONE
BEGIN:VEVENT
DTSTART;TZID=UTC:20131011T200000
DTEND;TZID=UTC:20131011T230000
DTSTAMP:20260421T115825
CREATED:20160811T072430Z
LAST-MODIFIED:20161005T094215Z
UID:7824-1381521600-1381532400@zinor.fr
SUMMARY:11 10 2013 Krush + Machete + Mamuth + Better off Dead
DESCRIPTION:KRUSH (Crust Grind – Holland)MACHETE (Stoner Punk – Montaigu) MACHETE groupe montacutain formé avec des ex Craft\,Michel Platinium\, Lout Society Kurse délivre du gros son bien heavy\, noise\, indus\, metal avec ce qu’il faut de groove stoner. Les fans de Taint\, Nailbomb\, Fudge Tunnel\, Eyehategod ou Kyuss en auront pour leur compte. \nMAMUTH (Crossover – Montaigu) \nBETTER OF DEAD (Punk Rock – Angers/Le Mans) \nINFOS 20h30 / 6€ / ainu@live.fr
URL:https://zinor.fr/a-faire/11-10-2013-krush-machete-mamuth-better-off-dead/
LOCATION:Le Zinor\, 191\, rue du Moulin Gros\, ZA Nord et Gare\, Montaigu-Vendée\, 85600\, France
CATEGORIES:Au Zinor
ORGANIZER;CN="A%C3%AFnu":MAILTO:ainurecord@live.fr
END:VEVENT
END:VCALENDAR