BEGIN:VCALENDAR
VERSION:2.0
PRODID:-//Zinor / Collectif Icroacoa Montaigu - ECPv6.10.1.1//NONSGML v1.0//EN
CALSCALE:GREGORIAN
METHOD:PUBLISH
X-WR-CALNAME:Zinor / Collectif Icroacoa Montaigu
X-ORIGINAL-URL:https://zinor.fr
X-WR-CALDESC:Évènements pour Zinor / Collectif Icroacoa Montaigu
REFRESH-INTERVAL;VALUE=DURATION:PT1H
X-Robots-Tag:noindex
X-PUBLISHED-TTL:PT1H
BEGIN:VTIMEZONE
TZID:UTC
BEGIN:STANDARD
TZOFFSETFROM:+0000
TZOFFSETTO:+0000
TZNAME:UTC
DTSTART:20130101T000000
END:STANDARD
END:VTIMEZONE
BEGIN:VEVENT
DTSTART;TZID=UTC:20131029T170000
DTEND;TZID=UTC:20131029T230000
DTSTAMP:20260421T102320
CREATED:20160811T072431Z
LAST-MODIFIED:20161005T081603Z
UID:7829-1383066000-1383087600@zinor.fr
SUMMARY:29 10 2013 PIGS + SOFY MAJOR + DEATH ENGINE
DESCRIPTION: PIGS (Noise Metal Legends\, New York) w/ Dave Curran from Unsane\n« On a pensé un à un nom court que la presse et les organisateurs ne pourront pas oublier ». Voici comment Dave Curran\, bassiste d’Unsane décrit le nom de son side project : PIGS. Et c’est vrai que le groupe porte bien son nom. La sortie de leur LP (sold out) chez le label français Solar Flare (Sojy Major\, Watertank..) a un vrai son de porc… !! La musique n’est pas très éloigné de ce que fait Unsane avec une touche de délire en plus (regardez donc la pochette du disque). Si vous souhaitez en prendre plein les esgourdes ne les ratez pas au Zinor\, c’est la seule date dans l’ouest ! \nbandcamp  \n[youtube GYLsLbeo7oY] \nSOFY MAJOR (Noise-Métal/Sludge\, Clermont-Ferrand)\n« Soldat Baleine\, bon à rien\, mais non de dieu explosez moi tout ça !! » : Les majors sont de retour du front et vous ont promit un petit déjeuner fait principalement de viande porcine ! Détaillons donc ensemble le menu du jour : ici\, pas de chichi\, pas de surfait; on vous sert des plats gras\, saturés comme il se doit\, et qui tachent méchamment. Au programme donc\, guitare acérée\, basse en fonte\, batterie en acier forgé\, groove ultra-affuté et technicité pure coté écriture. Après un « Permission To Engage » qui avait marqué les esprits par la fusion d’un post-hardcore lourd et de qualité ainsi qu’un bon doom de derrière les fagots\, le gang de Clermont revient\, après un passage au states qui lui a fait le plus grand bien. Et c’est un véritable vent de fraicheur qui souffle sur ce nouvel album\, pépite absolue née à Brooklyn/New York\, des mains de fées de Mr Andrew Schneider (Unsane\, Keelhaul\, Converge…). Contre vent et marée\, « Idolize » est né\, dans la douleur (triste épisode de l’ouragan Sandy)\, mais bon sang les efforts n’ont pas été vain. On vous promet donc un live aux petits oignons !! \nbandcamp \n[youtube tECWTjgLaFw] \nDEATH ENGINE (Noise/Post-Hardcore\, Lorient)\nSi l’apocalypse naturelle prenait forme dans les prochains jours\, Death Engine serait surement l’un des groupes à amplifier sur un système son à un niveau mondial. Violence\, tristesse\, noirceur\, mélancolie\, chant torturé\, larsens et son industriels\, tant d’attributs qui font du groupe le vecteur d’une facette les plus noire du post-hardcore actuel. Coté son\, le groupe ne se refuse rien et vient tout juste d’enregistrer son dernier album aux cotés du brillant Amaury Sauvé\, batteur d’As we Draw\, au studio La Senelle à Laval (Birds in Row\, The Forks\, Zapruder). En live c’est une véritable déflagration sonore… alors accrochez vous et laissez mère-grand à la maison\, cette machine de la mort va vous ébouriffer la tignasse… match retour après le Noc’ au Zinor ! \nbandcamp \nINFOS\n20h / 6€ / assocrumblefight@gmail.com
URL:https://zinor.fr/a-faire/29-10-2013-pigs-sofy-major-death-engine/
CATEGORIES:Au Zinor
END:VEVENT
END:VCALENDAR