BEGIN:VCALENDAR
VERSION:2.0
PRODID:-//Zinor / Collectif Icroacoa Montaigu - ECPv6.10.1.1//NONSGML v1.0//EN
CALSCALE:GREGORIAN
METHOD:PUBLISH
X-ORIGINAL-URL:https://zinor.fr
X-WR-CALDESC:Évènements pour Zinor / Collectif Icroacoa Montaigu
REFRESH-INTERVAL;VALUE=DURATION:PT1H
X-Robots-Tag:noindex
X-PUBLISHED-TTL:PT1H
BEGIN:VTIMEZONE
TZID:UTC
BEGIN:STANDARD
TZOFFSETFROM:+0000
TZOFFSETTO:+0000
TZNAME:UTC
DTSTART:20130101T000000
END:STANDARD
END:VTIMEZONE
BEGIN:VEVENT
DTSTART;TZID=UTC:20131031T180000
DTEND;TZID=UTC:20131031T230000
DTSTAMP:20260421T102750
CREATED:20160811T072434Z
LAST-MODIFIED:20161004T160839Z
UID:7848-1383242400-1383260400@zinor.fr
SUMMARY:Zin'Horror (31 Octobre 2013)
DESCRIPTION:
URL:https://zinor.fr/a-faire/zinhorror-31-octobre-2013/
LOCATION:Le Zinor\, 191\, rue du Moulin Gros\, ZA Nord et Gare\, Montaigu-Vendée\, 85600\, France
CATEGORIES:Au Zinor
END:VEVENT
BEGIN:VEVENT
DTSTART;TZID=UTC:20131031T190000
DTEND;TZID=UTC:20131031T230000
DTSTAMP:20260421T102750
CREATED:20160811T072432Z
LAST-MODIFIED:20161005T081410Z
UID:7838-1383246000-1383260400@zinor.fr
SUMMARY:31 10 2013 ZIN'HORROR
DESCRIPTION:  \nZIN’HORROR 2 : une soirée sous le signe de l’horreur et du Rock n’ Roll !    Déguisement macabre exigé ! \n  \n  \n  \nMOBUTU (Heayvy Rock n’ Roll – Fontenay-le-Comte) \n[youtube X4KSO5HV7PY] \nDELIRIUM TREMENS (Psychobily – Ile-de-Ré) \n[youtube b-uStRvMBYg] \nLES BRAS CASSES (Punk Rock)4 \nINFOS \n20h30 / 5€ / assoheyoka@yahoo.fr \n  \n  \n 
URL:https://zinor.fr/a-faire/31-10-2013-zinhorror/
LOCATION:Le Zinor\, 191\, rue du Moulin Gros\, ZA Nord et Gare\, Montaigu-Vendée\, 85600\, France
CATEGORIES:Au Zinor
END:VEVENT
END:VCALENDAR