BEGIN:VCALENDAR
VERSION:2.0
PRODID:-//Zinor / Collectif Icroacoa Montaigu - ECPv6.10.1.1//NONSGML v1.0//EN
CALSCALE:GREGORIAN
METHOD:PUBLISH
X-WR-CALNAME:Zinor / Collectif Icroacoa Montaigu
X-ORIGINAL-URL:https://zinor.fr
X-WR-CALDESC:Évènements pour Zinor / Collectif Icroacoa Montaigu
REFRESH-INTERVAL;VALUE=DURATION:PT1H
X-Robots-Tag:noindex
X-PUBLISHED-TTL:PT1H
BEGIN:VTIMEZONE
TZID:UTC
BEGIN:STANDARD
TZOFFSETFROM:+0000
TZOFFSETTO:+0000
TZNAME:UTC
DTSTART:20130101T000000
END:STANDARD
END:VTIMEZONE
BEGIN:VEVENT
DTSTART;TZID=UTC:20131108T180000
DTEND;TZID=UTC:20131108T230000
DTSTAMP:20260421T102344
CREATED:20160811T072433Z
LAST-MODIFIED:20161005T080059Z
UID:7842-1383933600-1383951600@zinor.fr
SUMMARY:08 11 2013 Urbano Tour #7
DESCRIPTION:HIP-HOP PARTY : Peace\, Unity\, Love & Having Fun\n\n« Peace\, Unity\, Love & Having Fun » : véritable devise de la Culture urbaine\, c’est dans cet esprit positif qu’Urbano vous propose sa toute première soirée Hip-Hop au Zinor à Montaigu avec un programme live rythmé et coloré. \n20h45 – Negrodiox – Vainqueur Buzz Booster Vendée\nLe tout récent vainqueur du Buzz Booster Vendée\, étape départementale (18 octobre au Fuzz’Yon à la Roche sur Yon) du tremplin rap national\, viendra nous présenter son univers avant d’aller défendre le Hip-Hop vendéen à la finale régionale \n \n\n\n\n\n\n\n\n\n\n\n21h45 – Mic Breathe – Human Beatbox\nAprès avoir enflammé la 1ère partie du concert de IAM à Poupet\, le beatboxer Mic Breathe va retourner le ZINOR à coups de pépites sonores. \n \n22h45 > Scarecrow – Blues Hip-Hop\nPuis ce sera au tour de nos amis toulousains Scarecrow qui ont littéralement séduit le public d’Urbano en juin 2012 avec leur blues hip-hop si sexy. Une belle et surprenante découverte à ne manquer sous aucun prétexte\, coup de cœur ! \n[youtube -co9IfGNDjA] \n00h30 – DJ Don’s – Jazzy & Old School Hip-Hop\nEnfin\, DJ Don’s nous fera inévitablement danser sur ses sélections teintées de jazz et de hip-hop US à l’ancienne ! \n \n\nPROGRAMME\n20h00 > Ouverture des portes\n20h45 > 21h15 > Vainqueur Buzz Booster Vendée (tremplin rap national)\n21h45 > 22h15 > Mic Breathe (human beatbox)\n22h45 > 00h00 > Scarecrow (blues hip-hop)\n00h30 > 01h30 > DJ Don’s (jazzy & old school hip-hop)\n01h30 > 02h00 > Freestyle (boeuf musical hip-hop)\n\nBILLETTERIE\nTarifs > Normal 6€ / Adhérent Urbano 4€\nPass Culture et Sport accepté\nBilletterie et restauration sur place\nRéservation > weezevent.com – urbano.fr\n\nINFORMATIONS\nTél. 06 14 31 62 23\nEmail. info@urbano.fr\nFacebook : www.facebook.com/UrbanoFestival\nTwitter : www.twitter.com/UrbanoFestival\n\n\n\n\n 
URL:https://zinor.fr/a-faire/08-11-2013-urbano-tour-7/
LOCATION:Le Zinor\, 191\, rue du Moulin Gros\, ZA Nord et Gare\, Montaigu-Vendée\, 85600\, France
CATEGORIES:Au Zinor
END:VEVENT
END:VCALENDAR