BEGIN:VCALENDAR
VERSION:2.0
PRODID:-//Zinor / Collectif Icroacoa Montaigu - ECPv6.10.1.1//NONSGML v1.0//EN
CALSCALE:GREGORIAN
METHOD:PUBLISH
X-WR-CALNAME:Zinor / Collectif Icroacoa Montaigu
X-ORIGINAL-URL:https://zinor.fr
X-WR-CALDESC:Évènements pour Zinor / Collectif Icroacoa Montaigu
REFRESH-INTERVAL;VALUE=DURATION:PT1H
X-Robots-Tag:noindex
X-PUBLISHED-TTL:PT1H
BEGIN:VTIMEZONE
TZID:UTC
BEGIN:STANDARD
TZOFFSETFROM:+0000
TZOFFSETTO:+0000
TZNAME:UTC
DTSTART:20130101T000000
END:STANDARD
END:VTIMEZONE
BEGIN:VEVENT
DTSTART;TZID=UTC:20131130T180000
DTEND;TZID=UTC:20131130T230000
DTSTAMP:20260421T084855
CREATED:20160811T072438Z
LAST-MODIFIED:20161004T144831Z
UID:7850-1385834400-1385852400@zinor.fr
SUMMARY:30 11 2013 FESTIVAL LES HILAIRANTES  #1
DESCRIPTION:Festival Les Hilairantes\nLors de cette soirée\, les jeunes talents de la région auront 10 min pour séduire lepublic et avoir la chance de faire la première partie de Baptiste Lecaplain. \nINFOS \n5€ / 21h
URL:https://zinor.fr/a-faire/30-11-2013-festival-les-hilairantes-1/
LOCATION:Le Zinor\, 191\, rue du Moulin Gros\, ZA Nord et Gare\, Montaigu-Vendée\, 85600\, France
CATEGORIES:Au Zinor
END:VEVENT
END:VCALENDAR