BEGIN:VCALENDAR
VERSION:2.0
PRODID:-//Zinor / Collectif Icroacoa Montaigu - ECPv6.10.1.1//NONSGML v1.0//EN
CALSCALE:GREGORIAN
METHOD:PUBLISH
X-ORIGINAL-URL:https://zinor.fr
X-WR-CALDESC:Évènements pour Zinor / Collectif Icroacoa Montaigu
REFRESH-INTERVAL;VALUE=DURATION:PT1H
X-Robots-Tag:noindex
X-PUBLISHED-TTL:PT1H
BEGIN:VTIMEZONE
TZID:UTC
BEGIN:STANDARD
TZOFFSETFROM:+0000
TZOFFSETTO:+0000
TZNAME:UTC
DTSTART:20130101T000000
END:STANDARD
END:VTIMEZONE
BEGIN:VEVENT
DTSTART;TZID=UTC:20131207T180000
DTEND;TZID=UTC:20131207T230000
DTSTAMP:20260421T085145
CREATED:20160811T072433Z
LAST-MODIFIED:20161005T080347Z
UID:7844-1386439200-1386457200@zinor.fr
SUMMARY:07 12 2013 Couril's Back !!
DESCRIPTION:C’est depuis un bâtiment de la gare SNCF que les Couril’s firent raisonner la basse\, pour leur première fois\, sur “les terres de Montaigu”\, avec en maitre de cérémonie un certain dj Radium. \nCette petite rave à l’arrache s’avérera être le début d’une aventure électronique qui les mènera vers l’organisation de free-party jusqu’à celle de soirées électro\, en passant par différents festivals et autres teknivals. \n14 ans après et bien décidés à faire savoir que “Tek’not dead in Montaigu”\, Couril’s Troop remet la main dans l’bac (à skeud…) et débarque au ZINOR avec la ferme intention d’enflammer le dancefloor à coup de gros kicks fracassants et de rythmes frénétiques enivrants. \nGros mix en perspective avec comme seul mot d’ordre pour ses dj’s: ” fais péter…” \nCouril’s Troop\, 100 doutes! \nINFOS\n20H/02H – Prix Libre \nPolichinel – Vilain Petit Canard/Inclassable \ndeezer \nRectom Selecta + MC off 4\,20\,17 \nBattle Drum’n’Bass Courils vs Troopers + guests \nCrack’hot – Electro/tek \nJanembass – Tekno/break beat \nTot-m – Hard-core (moi j’dis…) \n[dailymotion x13nqt] \n  \n 
URL:https://zinor.fr/a-faire/07-12-2013-courils-back/
LOCATION:Le Zinor\, 191\, rue du Moulin Gros\, ZA Nord et Gare\, Montaigu-Vendée\, 85600\, France
CATEGORIES:Au Zinor
END:VEVENT
END:VCALENDAR