BEGIN:VCALENDAR
VERSION:2.0
PRODID:-//Zinor / Collectif Icroacoa Montaigu - ECPv6.10.1.1//NONSGML v1.0//EN
CALSCALE:GREGORIAN
METHOD:PUBLISH
X-WR-CALNAME:Zinor / Collectif Icroacoa Montaigu
X-ORIGINAL-URL:https://zinor.fr
X-WR-CALDESC:Évènements pour Zinor / Collectif Icroacoa Montaigu
REFRESH-INTERVAL;VALUE=DURATION:PT1H
X-Robots-Tag:noindex
X-PUBLISHED-TTL:PT1H
BEGIN:VTIMEZONE
TZID:UTC
BEGIN:STANDARD
TZOFFSETFROM:+0000
TZOFFSETTO:+0000
TZNAME:UTC
DTSTART:20130101T000000
END:STANDARD
END:VTIMEZONE
BEGIN:VEVENT
DTSTART;TZID=UTC:20131214T100000
DTEND;TZID=UTC:20131215T190000
DTSTAMP:20260421T084938
CREATED:20160811T072433Z
LAST-MODIFIED:20161005T080714Z
UID:7845-1387015200-1387134000@zinor.fr
SUMMARY:14-15 12 2013 MARCHE DE NOEL DES CREATEURS DE LA RUCHE
DESCRIPTION:La Ruche\, collectif de créateurs\, d’artisans et d’artistes vous propose la 3ème édition de son Marché de Noël qui aura lieu cette année au ZINOR . \nVoici les exposants qui seront présents durant le we : \nJolie Margot – Bijoux \nMarie Bousseau – Photos \nChloé Rémiat – Sculpture papier mâché \nPretty Rebellious –  Bracelets brésiliens \nAmbre Céramique – Créations porcelaine \nKarine Nicon – Textile \nFrançois Echappé – Céramique \nYann Migné – Bois \nLa Porte d’Alice – Mobilier-bijoux \nVerri Arty – Créations verre \nMelle Valentine – Illustration \nNathalie Bordet – Bois \nLucie Barranger – Crochet \nNaïda Lamy – Gâteaux maison \nAurélia Veyssière – Créations verre \nINFOS  \nGratuit / 10h30-19h / www.la rucheasso.fr / laboutiquedelaruche@gmail.com
URL:https://zinor.fr/a-faire/14-15-12-2013-marche-de-noel-des-createurs-de-la-ruche/
LOCATION:Le Zinor\, 191\, rue du Moulin Gros\, ZA Nord et Gare\, Montaigu-Vendée\, 85600\, France
CATEGORIES:Au Zinor
END:VEVENT
END:VCALENDAR