BEGIN:VCALENDAR
VERSION:2.0
PRODID:-//Zinor / Collectif Icroacoa Montaigu - ECPv6.10.1.1//NONSGML v1.0//EN
CALSCALE:GREGORIAN
METHOD:PUBLISH
X-WR-CALNAME:Zinor / Collectif Icroacoa Montaigu
X-ORIGINAL-URL:https://zinor.fr
X-WR-CALDESC:Évènements pour Zinor / Collectif Icroacoa Montaigu
REFRESH-INTERVAL;VALUE=DURATION:PT1H
X-Robots-Tag:noindex
X-PUBLISHED-TTL:PT1H
BEGIN:VTIMEZONE
TZID:UTC
BEGIN:STANDARD
TZOFFSETFROM:+0000
TZOFFSETTO:+0000
TZNAME:UTC
DTSTART:20130101T000000
END:STANDARD
END:VTIMEZONE
BEGIN:VEVENT
DTSTART;TZID=UTC:20131228T180000
DTEND;TZID=UTC:20131228T230000
DTSTAMP:20260421T084808
CREATED:20160811T072438Z
LAST-MODIFIED:20161004T160505Z
UID:7852-1388253600-1388271600@zinor.fr
SUMMARY:28 12 2013 THE CONCERT DE NOEL
DESCRIPTION:Artsonic vous propose son éternelle soirée de Noël. Particularité de cette nouvelle édition\, la soirée s’ouvrira avec un conte pour enfants raconté par Amadou Sanfo avant de vous faire guincher sur de la World Music\nKirikou et la Sorcière (Conte et musique pour les 5/12 ans – 45 min)\nLe temps d’un conte\, Amadou nous emmène en Afrique\, il nous montre sa faune\, ses multiples cultures et traditions\, les saisons\, la savane\, le désert\, la vie quotidienne\, la parole des sages\, il nous dévoile ses histoires de sorcières et de fétiches comme dans le film Kirikou… \nL’histoire du minuscule garçon Kirikou qui délivre son village malgré les emprises maléfiques de la sorcière Karaba. \nL’objectif de ce spectacle interactif est également de sensibiliser les enfants au civisme et à la conscience morale tels que les méfaits du mensonge\, le refus de la violence et le respect de l’autre. \n[youtube PgR8a19LQOw] \nDémonstration de Capoeira et de danses brésiliennes par l’association Arte da Bahia\nL’association Arte da Bahia propose des cours de capoeira et de danses brésiliennes toute l’année à Rocherservière en Vendée. Au delà de ces deux disciplines emblématiques\, c’est tout l’esprit de la culture brésilienne que vous retrouverez dans une ambiance festive et chaleureuse ! \nAmadou Sanfo – World Music\nD’origine burkinabé\, Amadou Sanfo est une voix originale de la World Music\, voire de la « Wassa Musique ». Il est à la fois auteur-compositeur\, chanteur-musicien multi-instrumentiste et conteur. \nFondateur du groupe « Amadou et Saramaya » en 1991\, il nous peint un grand tableau musical\, multicolore\, savant mélange des rythmes africains et occidentaux. Son enfance est bercée par les mélopées mandingues et les musiques épurées d’Afrique de l’Ouest. Awa\, sa grand-mère\, une des griotes du village\, l’initie dès l’âge de 8 ans aux chants et aux contes africains pétris de leçons de morales. \nAdulte\, Amadou s’enrichit de plusieurs rencontres\, avec notamment Georges Moustaki\, Arthur H\, Manu Dibango ; citons aussi ses premières parties d’artistes comme Geoffrey Oryema\, Ismaël Lô\, Zebda\, Manu Dibango\, Salif Keïta et Yannick Noah. \n http://www.amadousanfo.com/ \n[youtube 2owI66tFEcI] \nForro Gringo – Bal Brésilien\nForro gringo est un groupe de 5 musiciens né au cours du printemps 2011 autour d’un désir commun : partager et faire découvrir le forro\, musique festive originaire du nord est du Brésil. Inspiré par le répertoire traditionnel\, Forro gringo se ré-approprie les standards du forro en y ajoutant sa couleur personnelle : les thèmes musicaux et la chaleur brésilienne se fondent avec les influences artistiques de chacun des musiciens. \nL’accordéon se met parfois à swinguer\, les voix s’envolent en ragga\, les percussions martèlent le rythme et soutiennent ce doux mélange pour créer un son original et inédit. \n http://forrogringo.blogspot.com/ \n[youtube 0oxLy25h9yU] \nSeleção Sound System – Afrobeat-Electro-Cumbia-Afro-Latino\nVenez bouger vos popotins sur une sélection « Nueva Cumbia » ambiance chaleur tropicale ! \nLe concept : faire du neuf avec de l’ancien. Ambiance torride assurée ! \n+ 1 groupe surprise ! \nINFOS\nContes : 18h / 2€ \nConcerts : de 20h (apéro concert) à 2h / 6€ \nContact : contact@zinor.fr / 09 50 64 19 26 \n  \n  \n  \n 
URL:https://zinor.fr/a-faire/28-12-2013-the-concert-de-noel/
CATEGORIES:Au Zinor
END:VEVENT
BEGIN:VEVENT
DTSTART;TZID=UTC:20131228T180000
DTEND;TZID=UTC:20131228T230000
DTSTAMP:20260421T084808
CREATED:20160811T072439Z
LAST-MODIFIED:20161004T144604Z
UID:7860-1388253600-1388271600@zinor.fr
SUMMARY:Concert de Noël (28 Décembre 2013)
DESCRIPTION:
URL:https://zinor.fr/a-faire/concert-de-noel-28-decembre-2013/
END:VEVENT
END:VCALENDAR