BEGIN:VCALENDAR
VERSION:2.0
PRODID:-//Zinor / Collectif Icroacoa Montaigu - ECPv6.10.1.1//NONSGML v1.0//EN
CALSCALE:GREGORIAN
METHOD:PUBLISH
X-WR-CALNAME:Zinor / Collectif Icroacoa Montaigu
X-ORIGINAL-URL:https://zinor.fr
X-WR-CALDESC:Évènements pour Zinor / Collectif Icroacoa Montaigu
REFRESH-INTERVAL;VALUE=DURATION:PT1H
X-Robots-Tag:noindex
X-PUBLISHED-TTL:PT1H
BEGIN:VTIMEZONE
TZID:UTC
BEGIN:STANDARD
TZOFFSETFROM:+0000
TZOFFSETTO:+0000
TZNAME:UTC
DTSTART:20140101T000000
END:STANDARD
END:VTIMEZONE
BEGIN:VEVENT
DTSTART;TZID=UTC:20140308T180000
DTEND;TZID=UTC:20140308T230000
DTSTAMP:20260420T152510
CREATED:20160811T072441Z
LAST-MODIFIED:20161004T143524Z
UID:7865-1394301600-1394319600@zinor.fr
SUMMARY:08 03 2014 DALIDA + VERBAL RAZORS + FEEL THE GATLING + URSS
DESCRIPTION:Dalida (Krautwave\, Metz) \nDALIDA\, tout nouveau projet express réunissant les membres de Daikiri et Klaus Legal\, un peu Krautwave sur les bords\, sous influence Neu!\, CAN et bourrée auvergnate…. surprise surprise! \nhttp://daikiri.bandcamp.com/ – http://klauslegalsaysno.blogspot.fr/ \nVerbal Razors (Thrash Crossover\, Tours) \nhttp://verbalrazors.bandcamp.com/ \nFeel the Gatling (Mathcore\, Clisson) \nhttps://fr-ca.facebook.com/FeelTheGatling \nURSS post (Hardcore\, Montaigu/Nantes) \nIncarnations terrestres : Klaus Legal et DAiKiRi (membres de la race\, Le Singe Blanc\, Judas Donneger\, Amour\, Myster Möebius…) \nINFOS \n6€ / 21h \n 
URL:https://zinor.fr/a-faire/08-03-2014-dalida-verbal-razors-feel-the-gatling-urss/
CATEGORIES:Au Zinor
END:VEVENT
END:VCALENDAR