BEGIN:VCALENDAR
VERSION:2.0
PRODID:-//Zinor / Collectif Icroacoa Montaigu - ECPv6.10.1.1//NONSGML v1.0//EN
CALSCALE:GREGORIAN
METHOD:PUBLISH
X-WR-CALNAME:Zinor / Collectif Icroacoa Montaigu
X-ORIGINAL-URL:https://zinor.fr
X-WR-CALDESC:Évènements pour Zinor / Collectif Icroacoa Montaigu
REFRESH-INTERVAL;VALUE=DURATION:PT1H
X-Robots-Tag:noindex
X-PUBLISHED-TTL:PT1H
BEGIN:VTIMEZONE
TZID:UTC
BEGIN:STANDARD
TZOFFSETFROM:+0000
TZOFFSETTO:+0000
TZNAME:UTC
DTSTART:20260101T000000
END:STANDARD
END:VTIMEZONE
BEGIN:VEVENT
DTSTART;TZID=UTC:20260421T190000
DTEND;TZID=UTC:20260421T223000
DTSTAMP:20260421T013014
CREATED:20260304T192234Z
LAST-MODIFIED:20260413T202115Z
UID:14092-1776798000-1776810600@zinor.fr
SUMMARY:Fury desk #1
DESCRIPTION:lien fb \nFURY DESK #1\nMardi 21 Avril – PRIX LIBRE\nLe Zinor – Montaigu – 19h00\nAvec :\nDON’T TRY\n(Punk Hardcore\, Québec)\n+\nMARBLES\n(Punk Hardcore\, Nantes)\nNouveau format\nConcert dans le Lieu de Vie ( espace catering / réunion ou bar associatif)\nJauge limité à 60 personnes\nTu n’es pas prêt !!\nNote la Date : Mardi 21 Avril / 19h00\nBientôt plus d’infos
URL:https://zinor.fr/a-faire/fury-desk-1/
LOCATION:Le Zinor\, 191\, rue du Moulin Gros\, ZA Nord et Gare\, Montaigu-Vendée\, 85600\, France
CATEGORIES:Au Zinor
ATTACH;FMTTYPE=image/jpeg:https://zinor.fr/wp-content/uploads/2026/03/A3-Fury-Desk-1-21-avril_page-0001.jpg
END:VEVENT
END:VCALENDAR