BEGIN:VCALENDAR
VERSION:2.0
PRODID:-//Zinor / Collectif Icroacoa Montaigu - ECPv6.10.1.1//NONSGML v1.0//EN
CALSCALE:GREGORIAN
METHOD:PUBLISH
X-WR-CALNAME:Zinor / Collectif Icroacoa Montaigu
X-ORIGINAL-URL:https://zinor.fr
X-WR-CALDESC:Évènements pour Zinor / Collectif Icroacoa Montaigu
REFRESH-INTERVAL;VALUE=DURATION:PT1H
X-Robots-Tag:noindex
X-PUBLISHED-TTL:PT1H
BEGIN:VTIMEZONE
TZID:UTC
BEGIN:STANDARD
TZOFFSETFROM:+0000
TZOFFSETTO:+0000
TZNAME:UTC
DTSTART:20260101T000000
END:STANDARD
END:VTIMEZONE
BEGIN:VEVENT
DTSTART;TZID=UTC:20260425T160000
DTEND;TZID=UTC:20260426T020000
DTSTAMP:20260425T012829
CREATED:20260309T182224Z
LAST-MODIFIED:20260413T203324Z
UID:14110-1777132800-1777168800@zinor.fr
SUMMARY:La Cuvée interdite
DESCRIPTION:Lien fb  \nOn prépare quelque chose depuis un moment…\nUne nuit un peu différente. Une nuit qu’on n’est pas censé ouvrir.\nCépage Nocturne vous invite à découvrir La Cuvée Interdite.\nL’idée est simple :\nun lieu plongé dans la nuit\,\nun gros soundsystem\,\ndes artistes qui envoient techno et hardmusic sans filtre\,\net une foule prête à danser jusqu’à ne plus sentir le temps passer.\nPas de chichi.\nJuste des basses lourdes\, des kicks qui frappent et l’énergie d’une vraie nuit rave.\nOn veut recréer ces moments où tout le monde est là pour la même chose :\nla musique\, la danse et l’intensité de la nuit.\nAlors si tu veux venir goûter à cette cuvée un peu spéciale…\nOn t’attend sur le dancefloor.\n-16h-2h\n-Bar et Bouffe sur place :\nCroque béchamel (fait maison) avec réservation possible au moment de l’achat de pré-ventes.\n-Line-up :\nPlus d’infos à venir.\n-Pré-ventes bientôt disponibles.
URL:https://zinor.fr/a-faire/la-cuvee-interdite/
LOCATION:Le Zinor\, 191\, rue du Moulin Gros\, ZA Nord et Gare\, Montaigu-Vendée\, 85600\, France
CATEGORIES:Au Zinor
ATTACH;FMTTYPE=image/jpeg:https://zinor.fr/wp-content/uploads/2026/03/cuvee.jpg
END:VEVENT
END:VCALENDAR