BEGIN:VCALENDAR
VERSION:2.0
PRODID:-//Zinor / Collectif Icroacoa Montaigu - ECPv6.10.1.1//NONSGML v1.0//EN
CALSCALE:GREGORIAN
METHOD:PUBLISH
X-WR-CALNAME:Zinor / Collectif Icroacoa Montaigu
X-ORIGINAL-URL:https://zinor.fr
X-WR-CALDESC:Évènements pour Zinor / Collectif Icroacoa Montaigu
REFRESH-INTERVAL;VALUE=DURATION:PT1H
X-Robots-Tag:noindex
X-PUBLISHED-TTL:PT1H
BEGIN:VTIMEZONE
TZID:UTC
BEGIN:STANDARD
TZOFFSETFROM:+0000
TZOFFSETTO:+0000
TZNAME:UTC
DTSTART:20130101T000000
END:STANDARD
END:VTIMEZONE
BEGIN:VEVENT
DTSTART;TZID=UTC:20130206T200000
DTEND;TZID=UTC:20130206T230000
DTSTAMP:20260420T124643
CREATED:20160811T072426Z
LAST-MODIFIED:20161006T085511Z
UID:7789-1360180800-1360191600@zinor.fr
SUMMARY:06 02 2013 Radio Moscow au Stakhanov !
DESCRIPTION:Radio Moscow et Birds are Alive au Stakhanov\nRADIO MOSCOW USA – Blues/Garage/60’s \nBruts\, éblouissants\, talentueux… trois adjectifs qui ne seront surement pas suffisants pour qualifier le puissant trio de l’Iowa. Forts d’une réputation qui n’est plus à faire\, les jeunes américains\, produits chez Alive records et signé chez uturn\, soutenus par Mr Dan Auderbach (Black Keys) et Thom York (Radiohead) themselves\, produisent une musique cradingue et fournie en riffs affutés\, agrémentés d’un son fuzz 60’s des plus croustillants. Mené par le brillant Parker Griggs\, Radio Moscow est un véritable plaisir pour tout amateur de musique blues\, garage et de rock psychédélique\, et tire au passage un très grand coup de chapeau à ses pères vénérables et vénérés (Hendrix\, Page\, Jeff Beck etc…). \nEtonnant\, bétonnant\, détonnant en live\, le trio promet de marquer le coup en ce début février au Stakhanov. Date immanquable\, on vous aura prévenu ! \nhttp://radiomoscow.net/ //  http://grooveshark.com/RadioMoscow \n[youtube yhch06BsdJk] \n  \nBIRDS ARE ALIVE Nantes – One-man-blues-band \nTout faire soit même : écrire\, produire\, se (re)produire… construire\, déconstruire\, reconstruire… oui ça c’est un petit peu la philosophie de Romain. Mais faire de la musique seule surtout\, ouais\, c’est le choix plutôt original qu’il a fait ! Live\, Birds are alive c’est un grand bonhomme\, une guitare rouge un peu destroy\, une grosse caisse\, des cymbales\, et le blues… oui\, le blues dans son état le plus brut possible. Ça pue (on aime)\, ça sue et…. ça tue ! \nOui car l’homme – ouverture des Black Keys à l’Olympia\, ohoh – joue un blues âpre\, sauvage et admirable\, tirant parfois sur le garage\, tout en s’adonnant également aux plaisirs des balades paisibles et subtiles\, comme on peut en trouver sur sa dernière perle de chez Kizmiaz records « Blues cooked for cannibals ». Encore un chouette plaisir pour les yeux et les oreilles qui nous attends\, et on ne va pas se priver ! \nhttp://www.birdsarealive.fr/ \nhttp://birdsarealive.bandcamp.com/ \n[youtube IXamB9-g3aY] \n INFOS :  \nA partir de 20h. \nStakhanov\, 7 rue de la Bâclerie (quartier Bouffay)\, Nantes \nPAF : 8€ // Infos supp à venir \n 
URL:https://zinor.fr/a-faire/06-02-2013-radio-moscow-au-stakhanov/
CATEGORIES:Hors Zinor
END:VEVENT
END:VCALENDAR