BEGIN:VCALENDAR
VERSION:2.0
PRODID:-//Zinor / Collectif Icroacoa Montaigu - ECPv6.10.1.1//NONSGML v1.0//EN
CALSCALE:GREGORIAN
METHOD:PUBLISH
X-WR-CALNAME:Zinor / Collectif Icroacoa Montaigu
X-ORIGINAL-URL:https://zinor.fr
X-WR-CALDESC:Évènements pour Zinor / Collectif Icroacoa Montaigu
REFRESH-INTERVAL;VALUE=DURATION:PT1H
X-Robots-Tag:noindex
X-PUBLISHED-TTL:PT1H
BEGIN:VTIMEZONE
TZID:UTC
BEGIN:STANDARD
TZOFFSETFROM:+0000
TZOFFSETTO:+0000
TZNAME:UTC
DTSTART:20130101T000000
END:STANDARD
END:VTIMEZONE
BEGIN:VEVENT
DTSTART;TZID=UTC:20130415T203000
DTEND;TZID=UTC:20130415T233000
DTSTAMP:20260420T113243
CREATED:20160811T072427Z
LAST-MODIFIED:20161006T084654Z
UID:7798-1366057800-1366068600@zinor.fr
SUMMARY:15 04 2013 Kadavar au Ferrailleur (Crumble Fight)
DESCRIPTION:Crumble Fight présente\n \nKADAVAR (Stoner/60’s\, Berlin) \n « Kadavar valent mieux que tous les connards qui s’engouffrent dans la brèche même pas lucrative du revival 70’s hard-stoner psychédélique blabla : Kadavar compose de putain de bons morceaux. Simplement\, tranquillement\, furieusement à l’ancienne. Birmingham ‘69 style\, quoi. […] la composition reste un fondamental qui dans bien des registres mais encore plus pour ce style de tatapoum\, transcende largement textes\, finesse de production et même qualité d’enregistrement. En l’occurrence ces chansons sonnent très bien\, mais ce serait également le cas si elles avaient été enregistrées avec un seul micro dans le sous-sol d’un immeuble en construction. » \nMathieu Rousseau\, SWQW. \n Oui\, Kadavar c’est déjà\, un premier album sorti chez Tee Pee Records et suivi par pas moins de 7 labels\, une présence au Roadburn 2013 : du bonheur 60’s pour les sens\, une expérience riche pour le corps\, un concert qui promet de laisser une teinte rouge sur les joues de chacun… n’hésitez plus et foncez-y les yeux fermés et oreilles grandes ouvertes !Prochain album « Abra Kadavar » disponible début avril chez Nuclear Blast Records. \n http://grooveshark.com/Kadavar /video \n  \n[youtube 4kent6hA9U4] \n  \nWATERTANK (Post-Hardcore\, Nantes) \n Sortons-nous la tête de l’eau et écoutons avec joie la musique de ce groupe nantais à l’histoire épique. Fort d’une première démo sortie en 2004 qui avait mis tout le monde d’accord et avait fait l’objet d’une petite bombe dans l’univers post-hardcore\, puis d’une seconde tout aussi millésimée\, Watertank était revenu en créeant la surprise en 2009 avec l’album « Fairy crimes »\, prouvant ainsi qu’il ne souhaitait pas cantonner sa musique dans un style unique\, laissant ainsi libre court à une évolution musicale et prouvant aussi qu’il était à l’aise dans de toutes autres contrées\, plus pop et heavy\, et en se permettant aussi un passage remarqué au Hellfest. \nEn silence depuis quelques années\, le lion nantais s’apprête à rugir de nouveau et sortira en ce mois d’avril « Sleepwalk » chez Solar Flare Records… et à l’écoute de son premier titre\, on ne peut que se réjouir de ce que le quintet nous réserve\, avec une voix qui n’est pas sans évoquer les Torche ainsi qu’un son… qui s’annonce des plus tranchants !! Welcome back rock heroes ! \n http://bandcamp.com/watertank / https://soundcloud.com/watertank \n  \nINFOS \n20h30 \nLe Ferrailleur\, Hangar à Bananes\, Nantes \nInfos et résas (paiement en ligne sécurisé) : http://www.crumblefight.com/concert \n12€ (+ frais de location) \n www.crumblefight.com
URL:https://zinor.fr/a-faire/15-04-2013-kadavar-au-ferrailleur-crumble-fight/
LOCATION:Le Ferrailleur
CATEGORIES:Hors Zinor
END:VEVENT
END:VCALENDAR