BEGIN:VCALENDAR
VERSION:2.0
PRODID:-//Zinor / Collectif Icroacoa Montaigu - ECPv6.10.1.1//NONSGML v1.0//EN
CALSCALE:GREGORIAN
METHOD:PUBLISH
X-WR-CALNAME:Zinor / Collectif Icroacoa Montaigu
X-ORIGINAL-URL:https://zinor.fr
X-WR-CALDESC:Évènements pour Zinor / Collectif Icroacoa Montaigu
REFRESH-INTERVAL;VALUE=DURATION:PT1H
X-Robots-Tag:noindex
X-PUBLISHED-TTL:PT1H
BEGIN:VTIMEZONE
TZID:UTC
BEGIN:STANDARD
TZOFFSETFROM:+0000
TZOFFSETTO:+0000
TZNAME:UTC
DTSTART:20130101T000000
END:STANDARD
END:VTIMEZONE
BEGIN:VEVENT
DTSTART;TZID=UTC:20130419T200000
DTEND;TZID=UTC:20130419T230000
DTSTAMP:20260420T112133
CREATED:20160811T072427Z
LAST-MODIFIED:20161006T084914Z
UID:7800-1366401600-1366412400@zinor.fr
SUMMARY:19 04 2013 PEDRO DE LA HOYA + FRANCOISE PAGAN A L'IVRESSE (NANTES)
DESCRIPTION:RueBaron (Aïnu show) présente…\n \nPEDRO DE LA HOYA (Homme orchestre –  Lyon) \nPedro membre des Kabu Ki Buddah\, joue de la guitare\, de la batterie\, du trombone\, chante… Le tout avec des gants de boxe. Homme orchestre\, oui\, mais avec un groove imparable\, il nous fait rentrer illico dans son délire festif et improbable. \nsite /myspace / bandcamp \n– \n[dailymotion x4x9l3] \n  \nFRANCOISE PAGAN (Acide house –  Nantes) \nDerriere Françoise Pagan se cache un certain Jonathan que l’on connait aussi comme batteur de Tekken. Ici fini le power violence place maintenant à l’Acide House Lofi from Belgique. \nbandcamp / facebook \n– \n[youtube 7cX0jqFB5N8] \n– \nINFOS \nLIVRESSE – 9 rue de l’Hôtel de ville – 44 000 NANTES \n20h00 pétante! / Prix libre / ainu@live.fr
URL:https://zinor.fr/a-faire/19-04-2013-pedro-de-la-hoya-francoise-pagan-a-livresse-nantes/
CATEGORIES:Hors Zinor
ORGANIZER;CN="A%C3%AFnu":MAILTO:ainurecord@live.fr
END:VEVENT
END:VCALENDAR