BEGIN:VCALENDAR
VERSION:2.0
PRODID:-//Zinor / Collectif Icroacoa Montaigu - ECPv6.10.1.1//NONSGML v1.0//EN
CALSCALE:GREGORIAN
METHOD:PUBLISH
X-ORIGINAL-URL:https://zinor.fr
X-WR-CALDESC:Évènements pour Zinor / Collectif Icroacoa Montaigu
REFRESH-INTERVAL;VALUE=DURATION:PT1H
X-Robots-Tag:noindex
X-PUBLISHED-TTL:PT1H
BEGIN:VTIMEZONE
TZID:UTC
BEGIN:STANDARD
TZOFFSETFROM:+0000
TZOFFSETTO:+0000
TZNAME:UTC
DTSTART:20130101T000000
END:STANDARD
END:VTIMEZONE
BEGIN:VEVENT
DTSTART;TZID=UTC:20130625T190000
DTEND;TZID=UTC:20130625T220000
DTSTAMP:20260420T084117
CREATED:20160811T072429Z
LAST-MODIFIED:20161005T094801Z
UID:7818-1372186800-1372197600@zinor.fr
SUMMARY:25 06 2013  Urbano Tour aux Sables d'Olonne !
DESCRIPTION: Battles\, danse hip-hop et beatbox au programme !\nAprès Montaigu\, La Roche sur Yon et Challans\, c’est au tour des Sables d’Olonne d’accueillir le festival itinérant Urbano Tour. \nAu programme : un battle de danse et nouveauté\, un battle de beatbox\, sans oublier les indispensables DJ\, speaker et graffeurs ! \n La fête hip-hop aura lieu le Jeudi 25 Juillet de 14h à 19h au Jardin du Tribunal sur le remblai face à la mer. Pour l’occasion\, le tarif des billets a été revu à la baisse : 5€ pour les adultes\, 2€ pour les moins de 14 ans et gratuit pour les enfants de moins de 5 ans (hors frais de location). \n L’événement sera suivi d’un concert exceptionnel de Wax Tailor\, l’un des plus grands DJ’s hip-hop de l’hexagone\, à 21h30 aux Atlantes. \n  \nBATTLE DE DANSE HIP-HOP \nAccessible à tous\, le battle est une compétition de danse spectaculaire animée par Luther K. \nCelui-ci rassemble 8 équipes de danseurs qui vont s’affronter 3 contre 3 sur la musique mixée en live par DJ Freshhh devant les yeux avisés de 3 juges danseurs professionnels. \nListe des équipes en compétition : \n– Klan d’Est 1 [Morlaix] > YouTube \n– Immigrandz [Bordeaux] > YouTube \n– 49ers [Cholet] > YouTube \n– Naonerd [Nantes et La Roche sur Yon] > YouTube \n– Nantes Rock City [Nantes] > YouTube \n– HotMilk Flavour [Cholet] > YouTube \n– Mind Body [La Verrie] > YouTube \n– La Roche Break [La Roche sur Yon] > YouTube \n  \n[youtube XFRX8Uuh8uI] \n  \nBATTLE DE HUMAN BEATBOX \nDiscipline issue de la culture hip-hop\, le human beatbox est l’art de reproduire des sons et rythmes avec la bouche pour seul instrument. \nIci\, 4 beatboxers armés de microphones vont s’opposer à coups de pépites sonores pour le plus grand bonheur du public ! \nListe des beatboxer en compétition : \n– Alexinho [Nantes] > YouTube \n– Wawad [Toulouse] > YouTube \n– Efaybee [Nantes] > YouTube \n– Michael Rooks [Montaigu] \n  \nINFOS PRATIQUES  \nDate > Jeudi 25 Juillet 2013 \nLieu > Jardin du Tribunal – Promenade de l’Amiral Lafargue – 85100 LES SABLES D’OLONNE \nde 14h00 à 19h00 / 02 51 46 48 99 /  info@urbano.fr \nSite > http://www.urbano-festival.fr / Facebook > Urbano Festival \nTarifs (hors frais de location) \nNormal – 5€ (sur place : 6€) / Moins de 14 ans – 2€ (sur place : 3€) / Moins de 5 ans – 0€ (sur place : 0€) \n Réservations \nOffice de Tourisme des Sables d’Olonne – 02 51 96 85 85 \nFnac – Magasins U – E.Leclerc – Intermarché \nWeezevent.com – Digitick.com – Fnac.com – Ticketnet.fr \n  \n  \n 
URL:https://zinor.fr/a-faire/25-06-2013-urbano-tour-aux-sables-dolonne/
CATEGORIES:Hors Zinor
END:VEVENT
END:VCALENDAR