BEGIN:VCALENDAR
VERSION:2.0
PRODID:-//Zinor / Collectif Icroacoa Montaigu - ECPv6.10.1.1//NONSGML v1.0//EN
CALSCALE:GREGORIAN
METHOD:PUBLISH
X-WR-CALNAME:Zinor / Collectif Icroacoa Montaigu
X-ORIGINAL-URL:https://zinor.fr
X-WR-CALDESC:Évènements pour Zinor / Collectif Icroacoa Montaigu
REFRESH-INTERVAL;VALUE=DURATION:PT1H
X-Robots-Tag:noindex
X-PUBLISHED-TTL:PT1H
BEGIN:VTIMEZONE
TZID:UTC
BEGIN:STANDARD
TZOFFSETFROM:+0000
TZOFFSETTO:+0000
TZNAME:UTC
DTSTART:20130101T000000
END:STANDARD
END:VTIMEZONE
BEGIN:VEVENT
DTSTART;TZID=UTC:20131003T200000
DTEND;TZID=UTC:20131003T230000
DTSTAMP:20260420T014200
CREATED:20160811T072430Z
LAST-MODIFIED:20161005T094255Z
UID:7825-1380830400-1380841200@zinor.fr
SUMMARY:3 10 2013 FESTIVAL ECLIP'SON 2 (OFF)
DESCRIPTION:1 ère soirée OFF au Bar Le Noctambule pour se mettre dans le bain !\n\nLe trio se crée une identité et sort son premier EP au mois de juillet 2013\, dont l’enregistrement a été réalisé au studio Warmaudio (Décines) ainsi qu’au Brise Glace (Annecy)\, au début du mois de décembre. Un Punk Rock brutal[…..] \nINFOS\nEntrée Libre / 20h30 / Bar le Noctambule 4 Place Dugast Matifeux 85600 Montaigu
URL:https://zinor.fr/a-faire/3-10-2013-festival-eclipson-2-off/
LOCATION:Le Noctambule Bar\, Place Dugast-Matifeux\, Montaigu\, 85600\, United States
CATEGORIES:Hors Zinor
END:VEVENT
END:VCALENDAR