BEGIN:VCALENDAR
VERSION:2.0
PRODID:-//Zinor / Collectif Icroacoa Montaigu - ECPv6.10.1.1//NONSGML v1.0//EN
CALSCALE:GREGORIAN
METHOD:PUBLISH
X-WR-CALNAME:Zinor / Collectif Icroacoa Montaigu
X-ORIGINAL-URL:https://zinor.fr
X-WR-CALDESC:Évènements pour Zinor / Collectif Icroacoa Montaigu
REFRESH-INTERVAL;VALUE=DURATION:PT1H
X-Robots-Tag:noindex
X-PUBLISHED-TTL:PT1H
BEGIN:VTIMEZONE
TZID:UTC
BEGIN:STANDARD
TZOFFSETFROM:+0000
TZOFFSETTO:+0000
TZNAME:UTC
DTSTART:20130101T000000
END:STANDARD
END:VTIMEZONE
BEGIN:VEVENT
DTSTART;TZID=UTC:20131004T180000
DTEND;TZID=UTC:20131005T180000
DTSTAMP:20260420T014028
CREATED:20160811T072430Z
LAST-MODIFIED:20161005T094420Z
UID:7826-1380909600-1380996000@zinor.fr
SUMMARY:4 10 2013 FESTIVAL ECLIP'SON 2
DESCRIPTION:OnDubGround\nCréé par deux frères\, ODG est né à Tours\, en France en 2004. Puisant directement son inspiration dans le « french-dub » des années 90. Depuis 2007 le duo est devenu trio\, permettant au groupe de dévoiler une réelle fusion de styles\,[…..] \n\n\nThe Banyans(Reggae Roots)\nComposés de 6 musiciens\, les Banyans cultivent un retour aux racines du reggae\, largement inspiré par les années 70 et modernisé avec leurs ingrédients. Les textes sont chantés en anglais dans la plus pure tradition du reggae Jamaïcain\,[…..] \n\n\nDubateers ft Charlie P\nBasés à l’Est de Londres\, (Essex / UK)\, Dubateers produit l’un des sons les plus heavy du UK Dub actuel. Depuis leurs débuts en 2004\, leurs productions ont été jouées par les plus grands sound systems. A travers leur style[…..] \n\n\n\nKPB Sound System\nUn sound system breton équipé d’un mur de 6 sub bass. Quoi de mieux pour mettre l’ambiance ? Déjà présent sur la Zin a Dub\, ils ne nous ont pas déçu. Leur sélection Root’s ‘n Dub raviront tous les inconditionnels.[…..] \n\n\n\nPanda Dub\nPanda Dub ne se nourrit pas de bambou et n’est pas en voie de disparition\, mais ce panda-là débarque pour envoyer une bonne décharge de basses bien massives. Inspiré aussi bien par l’univers sound-system à l’anglaise (Iration Steppas\, Alpha &[…..] \n\n\nBiga Ranx\nBiga Ranx\, artiste montant de la scène française\, est Tourangeau mais a déjà la tête tournée vers la Jamaïque. Sa musique\, entre Hip-Hop\, Ragga et Reggae\, vous entrainera sur des rythmes étonnants. Il sera présent sur la scène d’Eclip’Son le[…..] \nINFOS\nhttp://festival-eclipson.fr/ \nComment venir  \nEspace Yprésis – 85600 SAINT HILAIRE DE LOULAY (20 mn de Nantes\, la Roche sur Yon\, 30mn de Cholet) \nServices sur place \nBar et restauration / Activités et animations / Sound system sous chapiteau (non stop pendant les concerts) \nAucun espace de camping n’a été attribué par la municipalité. Cependant\, vous pouvez vous organiser vous même pour camper\, des hébergements proches du festival seront ravis de vous accueillir. \nPensez Covoiturage ! \nLe festival vous propose de venir en covoiturage\, pour plus de convivialité ! \nConducteurs> Proposez vos places libres sur notre page covoiturage ! \nPassagers >Trouvez votre trajet sur notre page covoiturage ! \nLe festival se déroule majoritairement en salle. Un espace extérieur et un Dub corner sont également prévus. \nRESAS\nVendredi 4 > 16€ en prévente / 20€ sur place \nRéservationdigitick \nSamedi 5 > 16€ en prévente / 20€ sur place \nRéservationigitick \n Pass 2 jours> 30€ en prévente seulement \n Réservationdigitick \nEt sur les réseaux TICKETNET LECLERC et FNAC ! \nBillets disponibles sans commission au BAR LE NOCTAMBULE MONTAIGU et au ZANZIBAR a St Hilaire de Loulay (ville du festival) \n  \n  \n 
URL:https://zinor.fr/a-faire/4-10-2013-festival-eclipson-2/
LOCATION:Espace Yprésis\, Rond Point le Verger – Rue de Nantes\, Saint-Hilaire-de-Loulay\, 85600\, United States
CATEGORIES:Hors Zinor
END:VEVENT
BEGIN:VEVENT
DTSTART;TZID=UTC:20131005T180000
DTEND;TZID=UTC:20131005T230000
DTSTAMP:20260420T014028
CREATED:20160811T072430Z
LAST-MODIFIED:20161005T094456Z
UID:7827-1380996000-1381014000@zinor.fr
SUMMARY:05 10 2013 FESTIVAL ECLIPSON 2
DESCRIPTION:Burning Heads\nMaintenant 20 ans que les Burning Heads écument les du vieux continent. Toujours la même rage dans les veines et la même passion à faire ce bon punk HxC qui a fait leur solide réputation. Présents sur la grande[…..] \n  \n  \n  \nKPB Sound System \nUn sound system breton équipé d’un mur de 6 sub bass. Quoi de mieux pour mettre l’ambiance ? Déjà présent sur la Zin a Dub\, ils ne nous ont pas déçu. Leur sélection Root’s ‘n Dub raviront tous les inconditionnels.[…..] \n  \n  \n  \nBlake Worrell\nSorti tout droit du groupe de hip-hop/marionnettes Puppetmastaz\, Blake Worrell a développé un style unique et s’illustre sur plusieurs niveaux de flows et de voix. Il passe de l’ombre à la lumière en solo\, en confirmant son goût pour le[…..] \n  \n  \nBroussaï \nBroussaï s’impose comme une référence dans le milieu du Reggae Français aujourd’hui. Le groupe se nourrit de la diversité des musiques urbaines jamaïcaines (nu roots\, ska\, dancehall\, dub\, hip-hop\, acoustique…) en développant des mélodies dynamiques et entrainantes. Avec originalité\, les[…..] \n  \n  \n  \nGeorges King \nGeorges King c’est un reggae puissant et mélodieux\, qui joue sur les contrastes et les émotions. Sa plume trempe dans l’encre de sa vie de rapatrié. Ses chansons à textes vous font référence et colle à notre société. Il est[…..] \n  \n  \n  \nHappening \nLe trio se crée une identité et sort son premier EP au mois de juillet 2013\, dont l’enregistrement a été réalisé au studio Warmaudio (Décines) ainsi qu’au Brise Glace (Annecy)\, au début du mois de décembre. Un Punk Rock brutal[…..] \n  \n  \n  \nOne Thousand Directions \nOne Thousand\, c’est un trio guitare basse batterie \, simple\, mais efficace\, avec en prime\, des riffs endiablés. Leurs influences : Burning heads \, Jaya the Cat\, Mopish moment. Un groupe local rempli d’énergie et de talent ! Une prestation[…..] \n  \n  \nTwo Minutes For\nComme pour le bon vin\, la région bordelaise est aussi réputée pour son excellente scène punk rock ; voici venu les petits derniers\, Two Minutes For qui sortent leur premier EP Dirty Kids. Le combo distille un punk mélo très[…..] \nVoir la page sur Two Minutes For\, samedi 5 octobre – scène Punk Rock \n  \n\nNaâman\nCoup de cœur Eclip’Son\, (Reggae / Ragga) Naâman a conquis un large public en seulement deux ans.Révélation de l’année aux victoires du reggae 2013\, il développe un son résolument moderne grâce à un flow groovy et mélodieux. Puisant ses inspirations[…..] \n  \n  \nINFOS\nhttp://festival-eclipson.fr/ \nComment venir  \nEspace Yprésis – 85600 SAINT HILAIRE DE LOULAY (20 mn de Nantes\, la Roche sur Yon\, 30mn de Cholet) \nServices sur place \nBar et restauration / Activités et animations / Sound system sous chapiteau (non stop pendant les concerts) \nAucun espace de camping n’a été attribué par la municipalité. Cependant\, vous pouvez vous organiser vous même pour camper\, des hébergements proches du festival seront ravis de vous accueillir. \nPensez Covoiturage ! \nLe festival vous propose de venir en covoiturage\, pour plus de convivialité ! \nConducteurs> Proposez vos places libres sur notre page covoiturage ! \nPassagers >Trouvez votre trajet sur notre page covoiturage ! \nLe festival se déroule majoritairement en salle. Un espace extérieur et un Dub corner sont également prévus. \nRESAS\nVendredi 4 > 16€ en prévente / 20€ sur place \nRéservationdigitick \nSamedi 5 > 16€ en prévente / 20€ sur place \nRéservationigitick \n Pass 2 jours> 30€ en prévente seulement \n Réservationdigitick \nEt sur les réseaux TICKETNET LECLERC et FNAC ! \nBillets disponibles sans commission au BAR LE NOCTAMBULE MONTAIGU et au ZANZIBAR a St Hilaire de Loulay (ville du festival) \n  \n 
URL:https://zinor.fr/a-faire/05-10-2013-festival-eclipson-2/
LOCATION:Espace Yprésis\, Rond Point le Verger – Rue de Nantes\, Saint-Hilaire-de-Loulay\, 85600\, United States
CATEGORIES:Hors Zinor
END:VEVENT
END:VCALENDAR