BEGIN:VCALENDAR
VERSION:2.0
PRODID:-//Zinor / Collectif Icroacoa Montaigu - ECPv6.10.1.1//NONSGML v1.0//EN
CALSCALE:GREGORIAN
METHOD:PUBLISH
X-ORIGINAL-URL:https://zinor.fr
X-WR-CALDESC:Évènements pour Zinor / Collectif Icroacoa Montaigu
REFRESH-INTERVAL;VALUE=DURATION:PT1H
X-Robots-Tag:noindex
X-PUBLISHED-TTL:PT1H
BEGIN:VTIMEZONE
TZID:UTC
BEGIN:STANDARD
TZOFFSETFROM:+0000
TZOFFSETTO:+0000
TZNAME:UTC
DTSTART:20130101T000000
END:STANDARD
END:VTIMEZONE
BEGIN:VEVENT
DTSTART;TZID=UTC:20131016T180000
DTEND;TZID=UTC:20131016T230000
DTSTAMP:20260420T014237
CREATED:20160811T072430Z
LAST-MODIFIED:20161005T094604Z
UID:7828-1381946400-1381964400@zinor.fr
SUMMARY:16 10 2013 ACID MOTHERS TEMPLE +...
DESCRIPTION: ACID MOTHERS TEMPLE (Rock-Psychédélique/Noise\, Japon)\nMarathon : épreuve sportive mêlant course à pied se déroulant sur 42.195 km\, champions actuels : Kényans. Oui mais voilà en matière de longues distances et longues durées\, les japonais se placent également dans le haut du classement. Avec pas moins de 18 années de carrière\, au moins 70 releases (?!!) et une moyenne d’age avoisinant la cinquantaine\, Acid Mothers Temple peut se targuer de se classer parmi les vétérans du genre. Collectif comptant pas moins d’une trentaine de membres (artistes\, musiciens\, danseurs ou agriculteurs !)\, les japonais ajoutent au rock psychédélique une touche noise ultime qui sublime\, ranime\, comprime\, oprime\, et décime\, pour nous transporter dans des sphères attractives\, addictives pour lesquelles on salive. Ne laissant pas en reste leurs pères des 60’s tels Caravan\, Led Zeppelin\, King Crimson\, Zappa\, Beefheart\, Hendrix\, ou encore le Pink Floyd\, Acid MT se permet même quelques clins d’oeil au genre dans leurs albums (« Electric Heavyland »). Après un passage au Soy en 2008 et à Stereolux en novembre dernier\, le quatuor promet de vous faire décoller live grâce à sa musique qu’il nomme « extreme trip music ». Allez-y les yeux fermés et gardez les ainsi jusqu’au bout du voyage ! \nbandcamp \n[youtube gBO2MCKN8ug] \nTHE BLONDI’S SALVATION (Rock-Psychédélique/Nantes)\nDans la famille The French Reverb Church je demande le père fondateur. Après avoir accueilli les Rennais de Sudden Death Of Stars en avril dernier\, nous organisons (enfin)\, un concert pour les nantais issu de cette famille psychédélique. Les amateurs de réverb\, de sonorités world\, indiennes (et autres) et de voix chamaniques ne seront pas déçus. Les accros des guitares saturées et hypnotisantes ne seront pas en reste. Venez nous accompagner dans un univers parallèle ! \nbandcamp \n[youtube BYOl5htoO8c] \nINFOS \n20h30 / 7€ / La Scène Michelet (Nantes) / assocrumblefight@gmail.com
URL:https://zinor.fr/a-faire/16-10-2013-acid-mothers-temple/
LOCATION:La Scène Michelet
CATEGORIES:Hors Zinor
END:VEVENT
END:VCALENDAR