BEGIN:VCALENDAR
VERSION:2.0
PRODID:-//Zinor / Collectif Icroacoa Montaigu - ECPv6.10.1.1//NONSGML v1.0//EN
CALSCALE:GREGORIAN
METHOD:PUBLISH
X-ORIGINAL-URL:https://zinor.fr
X-WR-CALDESC:Évènements pour Zinor / Collectif Icroacoa Montaigu
REFRESH-INTERVAL;VALUE=DURATION:PT1H
X-Robots-Tag:noindex
X-PUBLISHED-TTL:PT1H
BEGIN:VTIMEZONE
TZID:UTC
BEGIN:STANDARD
TZOFFSETFROM:+0000
TZOFFSETTO:+0000
TZNAME:UTC
DTSTART:20130101T000000
END:STANDARD
END:VTIMEZONE
BEGIN:VEVENT
DTSTART;TZID=UTC:20130117T180000
DTEND;TZID=UTC:20130117T230000
DTSTAMP:20260422T043721
CREATED:20160811T072439Z
LAST-MODIFIED:20161004T144256Z
UID:7856-1358445600-1358463600@zinor.fr
SUMMARY:17 01 2013 Apéro de la Contribution VLIPP
DESCRIPTION:Le Vlipp.fr\, organise le second Apéro de la Contribution de la saison. Rendez-vous le vendredi 17 janvier dans le lieu de vie du Collectif ICROACOA\, à côté de la salle du ZINOR. \nLe Vlipp.fr évolue au quotidien grâce à la publication de contenus des membres de la rédaction (les bénévoles de l’association) et des contributeurs (personnes externes à l’association DIPP) . Ces contributeurs participent à la vie du site par la publication de contenus. Les vidéos de la contribution sont donc éditées par des vidéastes indépendants\, des étudiants en communication ou filière audiovisuelle\, des associations\, des collectifs… \nClip\, courts-métrages\, art vidéo…place à l’éclectisme ! \nCertains vidéastes seront présents pour présenter leurs créations\, donner quelques tuyaux et discuter autour de la pratique audiovisuelle. \nSi vous habitez dans le coin et que vous voulez aussi projeter vos vidéos\, vous êtes les bienvenus. N’hésitez pas à vous présenter avec votre film sur clé usb le soir même de la diffusion ! \nSERONT PRESENTS \nÉtrange Miroir \n[vimeo 29841126] \nGrey Sea Films \nArbre ALRT \nIUT La-Roche-sur-Yon –  Département Info-Com \n INFOS \nPour plus d’infos sur la contribution : http://www.vlipp.fr/contribution / http://www.vlipp.fr/evenements/apero_montaigu \n19h30 / Gratuit / VLIPP \n 
URL:https://zinor.fr/a-faire/17-01-2013-apero-de-la-contribution-vlipp/
CATEGORIES:Au Zinor
END:VEVENT
BEGIN:VEVENT
DTSTART;TZID=UTC:20130119T180000
DTEND;TZID=UTC:20130119T230000
DTSTAMP:20260422T043721
CREATED:20160811T072428Z
LAST-MODIFIED:20161005T151702Z
UID:7808-1358618400-1358636400@zinor.fr
SUMMARY:Wonder Woman 2 (19 Janvier 2013)
DESCRIPTION:
URL:https://zinor.fr/a-faire/wonder-woman-2-19-janvier-2013/
END:VEVENT
END:VCALENDAR