BEGIN:VCALENDAR
VERSION:2.0
PRODID:-//Zinor / Collectif Icroacoa Montaigu - ECPv6.10.1.1//NONSGML v1.0//EN
CALSCALE:GREGORIAN
METHOD:PUBLISH
X-ORIGINAL-URL:https://zinor.fr
X-WR-CALDESC:Évènements pour Zinor / Collectif Icroacoa Montaigu
REFRESH-INTERVAL;VALUE=DURATION:PT1H
X-Robots-Tag:noindex
X-PUBLISHED-TTL:PT1H
BEGIN:VTIMEZONE
TZID:UTC
BEGIN:STANDARD
TZOFFSETFROM:+0000
TZOFFSETTO:+0000
TZNAME:UTC
DTSTART:20130101T000000
END:STANDARD
END:VTIMEZONE
BEGIN:VEVENT
DTSTART;TZID=UTC:20130503T210000
DTEND;TZID=UTC:20130503T230000
DTSTAMP:20260421T185156
CREATED:20160811T072428Z
LAST-MODIFIED:20161005T152353Z
UID:7813-1367614800-1367622000@zinor.fr
SUMMARY:03 05 2013 THE SHRINE + DEATH ENGINE
DESCRIPTION:Concert au Noctambule !\nTHE SHRINE (Punk Barge\, Los Angeles) \nParler de The Shrine est difficile tant c’est un groupe à voir en live. Originaire de Venice Beach en Californie\, le groupe s’est tout de suite taillé une petite réputation dans la scène locale. A force de tourner dans tous les États-Unis\, le groupe développe sa notoriété jusqu’à ce que le label Tee Pee Records (Kadavar\, Sleep\, Truckfighters) repère le groupe et le signe. La démo qui leur servait pour démarcher les clubs n’est pas retouchée\, juste remixée et re-masterisée pour la sortie chez Tee Pee.\nAu final\, le groupe nous sort neuf titres ultra rock’n’roll\, une sorte de rencontre entre Black Sabbath et Black Flag ou bien comme le définit le groupe lui même : « psychedelic violent rock’n’roll ». Le côté psyché est là mais le rythme est absolument débordant d’énergie. Pas le temps de souffler : riffs d’anthologie\, minis solos ultra bien sentis\, et mélodies sur-efficaces. Pas étonnant qu’ils aient tourné avec Fu Manchu en Angleterre en septembre dernier. Attention : headbang obligatoire en live ! \nhttp://theshrine.bandcamp.com/ \n\n\nDEATH ENGINE (Post Hardcore\, Lorient) \n\nSi l’apocalypse naturelle prenait forme dans les prochains jours\, Death Engine serait surement l’un des groupes à amplifier sur un système son à un niveau mondial. Violence\, tristesse\, noirceur\, mélancolie\, chant torturé\, larsens et son industriels\, tant d’attributs qui font du groupe le vecteur d’une facette les plus noire du post-hardcore actuel. Côté son\, le groupe ne se refuse rien et vient tout juste d’enregistrer son dernier album aux cotés du brillant Amaury Sauvé\, batteur d’As We Draw\, au studio La Senelle à Laval (Birds in Row\, The Forks\, Zapruder). En live c’est une véritable déflagration sonore… alors accrochez vous et laissez mère-grand à la maison\, cette machine de la mort va vous ébouriffer la tignasse… \nhttp://deathenginesound.bandcamp.com/album/amen \nINFOS \n21h / Entrée Libre / Bar le Noctambule (Montaigu)
URL:https://zinor.fr/a-faire/03-05-2013-the-shrine-death-engine/
LOCATION:Le Noctambule Bar\, Place Dugast-Matifeux\, Montaigu\, 85600\, United States
CATEGORIES:Hors Zinor
END:VEVENT
BEGIN:VEVENT
DTSTART;TZID=UTC:20130504T203000
DTEND;TZID=UTC:20130504T230000
DTSTAMP:20260421T185156
CREATED:20160811T072427Z
LAST-MODIFIED:20161006T085207Z
UID:7803-1367699400-1367708400@zinor.fr
SUMMARY:04 05 2013 MACROGOL + CONGO + ZOMBIEFICATION + PIRANA + RICHARD DURN
DESCRIPTION:MACROGOL (Death grind\, Nantes)\nDeuxième concert pour ce jeune groupe influencé par Carcass\, Repulsion\, Immured et Nirvana 2002. \n  \nCONGO (World noise\, Brest/Rouen) \nUn groupe exotique mélangeant allégrement math-rock puissant\, free-rock débridé\, easy-listening décalé\, furie noise-rock d’obédience Trans Am et même quelques zestes de zouk à l’aide d’une batterie\, de claviers et d’un violoncelle. \nsite \n[youtube V_CE4Dm7MQk] \n  \nZOMBIEFICATION (Death old school\, Mexique) \nNon ce groupe n’est pas suèdois mais bien mexicain\, en effet ce grain de guitare nous mets le doute\, ce son si épais et goudronneux comparable à une coulée de boue ravageant tout sur son passage propre à Entombed ou Dismember. \nsite / myspace / facebook \n[youtube Ynls72Y7k4g] \n  \nPIRANA (Thrash metal\, Mexique) \nLe Mexique nous envoit sa formation thrash métal au même titre que Violator pour le Brésil donc ressortez les spandex\, les casquettes fluos et les baskets en tissu montantes\, ça va swinguer dans la plus pure tradition « old school »! Caramba! \nmyspace \n[youtube SBsPtrW1KKA] \n  \nRICHARD DURN (Fast punk\, Nancy) \nRichard Durn c’est du hardcore plutôt original\, du powerviolence électronique avec des partie thrash/métal/sludge\, le tout sur de bonnes paroles conscientes\, bref ça sort du commun. \nsite /video \n  \nINFOS \n20h30 / 6€ / ainu@live.fr / ainurecords.com
URL:https://zinor.fr/a-faire/04-05-2013-macrogol-congo-zombiefication-pirana-richard-durn/
LOCATION:Le Zinor\, 191\, rue du Moulin Gros\, ZA Nord et Gare\, Montaigu-Vendée\, 85600\, France
CATEGORIES:Au Zinor
ORGANIZER;CN="A%C3%AFnu":MAILTO:ainurecord@live.fr
END:VEVENT
BEGIN:VEVENT
DTSTART;TZID=UTC:20130511T200000
DTEND;TZID=UTC:20130511T230000
DTSTAMP:20260421T185156
CREATED:20160811T072428Z
LAST-MODIFIED:20161005T152226Z
UID:7812-1368302400-1368313200@zinor.fr
SUMMARY:11 05 2013 Monty Picon et Nefertiti and the Kitchen
DESCRIPTION:Out of the Street !\n \nNEFERTITI IN THE KITCHEN \nNefertiti in the Kitchen est le projet solo de la musicienne-comédienne Jen Rival (Cie Bluffonne) accompagnée par le multi-instrumentiste Nicolas Méheust (Dominique A\, Chien vert\, Strupx). \nEntre jazz\, blues\, rock et folk\, la « Lady blues » à la voix charnelle et sensible livre une collection de chansonnettes douces-amères faites de bric et de broc : boite à musique\, guitare électrique\, mellotron et noisy drums. Un cabaret rock à l’italienne où se mélange allègrement Kurt Weill et Tom Waits. \nbandcamp \n[youtube GKSHEBVpB-0] \nMONTY PICON \nAprès avoir écumé les villes de France et de Belgique avec son spectacle de rue «S’il en reste… Ils reviendront»\, Monty Picon s’apprête à prendre d’assaut les scènes avec un show toujours plus Rock’n Roll. \nNouveau spectacle\, nouveau son\, nouvelle formule : les Monty sortent le grand jeu et pour cela\, ils n’ont pas hésité à rebattre leurs cartes. \nsite \n[youtube ZKH8Z5_Dc30] \nDJ REMAKE \nUn set chaud bouillant qui fera danser même les plus coincés ! \nINFOS \n5€ / 20h30
URL:https://zinor.fr/a-faire/11-05-2013-monty-picon-et-nefertiti-and-the-kitchen/
LOCATION:Le Zinor\, 191\, rue du Moulin Gros\, ZA Nord et Gare\, Montaigu-Vendée\, 85600\, France
CATEGORIES:Au Zinor
END:VEVENT
BEGIN:VEVENT
DTSTART;TZID=UTC:20130527T180000
DTEND;TZID=UTC:20130527T230000
DTSTAMP:20260421T185156
CREATED:20160811T072438Z
LAST-MODIFIED:20161004T160425Z
UID:7851-1369677600-1369695600@zinor.fr
SUMMARY:Davana\, Lecherous Gaze\, Colomite\, Sieur et Dame (27 Mai 2013)
DESCRIPTION:
URL:https://zinor.fr/a-faire/davana-lecherous-gaze-colomite-sieur-et-dame-27-mai-2013/
END:VEVENT
BEGIN:VEVENT
DTSTART;TZID=UTC:20130527T203000
DTEND;TZID=UTC:20130527T233000
DTSTAMP:20260421T185156
CREATED:20160811T072428Z
LAST-MODIFIED:20161006T084230Z
UID:7814-1369686600-1369697400@zinor.fr
SUMMARY:27 05 2013  DANAVA + LECHEROUS GAZE
DESCRIPTION:DANAVA (Psychedelic/Progressive Rock\, Portland) \nReprends ton souffle et réécoute tes meilleurs vinyles 60’s\, Danava est là pour tes petites fesses. Originaire de la « oh combien chouette et créative » ville de Portland – qui a vu émerger des merveilles telles que 31 Knots\, Grails ou encore Red Fang pour ne citer qu’eux – Danava propose un voyage dans des contrées où le hard-rock et le rock progressif copulent avec joie. Guitares affutées\, batterie au son 60’s croustillant\, basse tout droit sortie de chez Zappa\, le groupe nous rappelle quelques bijoux tels que Black Sabbath\, Caravan ou encore le Jethro Tull. Sorti sur Kemado records (Saviours\, The Sword)\, leur dernier album « Hemisphere of Shadows » frappe très fort en proposant des sonorités stoner succulentes qui rappellent les regrettés anciens LP de Orange Goblin. Qu’on se le dise\, rien qu’à en voir quelques extraits de leur passages au Roadburn\, il ne décevront pas LIVE. \n  \nhttp://www.deezer.com/fr/album/6233670\n  \n[youtube weChxtmTS78] \n  \n\nLECHEROUS GAZE (Stoner/Punk\, Oakland) \n  \nPochette du « On the Skids »\, dernière ponte du quatuor > une tête caricaturée au crane ouvert\, entourée d’objets vicieux\, qui se fait dévorer la cervelle à la petite cuillère : si la folie s’emparait de chacun de nous\, Lecherous en serait son chef d’orchestre. Mais le groupe ne s’arrête pas à la pochette. Sa musique ? Tout ce qu’il y a de plus punk\, de plus rock’n’roll\, de plus débile\, de plus gras\, de plus bourru\, de plus… fête !!!!! Oui\, lorsqu’on écoute leur dernier bébé\, l’album donne une furieuse envie d’oublier son train-train quotidien et de s’adonner aux vices les plus noirs. Sorti chez un label qu’on ne présente plus alias Tee Pee records (Graveyard\, High on Fire\, Kadavar\, Karma to Burn\, Sleep\, The Shrine\, Truckfighters etc…)\, « On the Skids » vous dévorera le cerveau à votre tour\, ne vous promettant aucune souffrance mais la simple joie de savourer un show démoniaque et on ne peut plus cintré. Prenez votre billet car ce véhicule là n’a rien d’un TGV\, il le surpasse ! \nhttp://lecherousgaze.bandcamp.com/ \n  \n[youtube hEKUb5y-ESU] \n  \nINFOS  \n\n20h30 / 6€ / ainu@live.fr\n\n\n\n 
URL:https://zinor.fr/a-faire/27-05-2013-danava-lecherous-gaze/
LOCATION:Le Zinor\, 191\, rue du Moulin Gros\, ZA Nord et Gare\, Montaigu-Vendée\, 85600\, France
CATEGORIES:Au Zinor
ORGANIZER;CN="A%C3%AFnu":MAILTO:ainurecord@live.fr
END:VEVENT
END:VCALENDAR