BEGIN:VCALENDAR
VERSION:2.0
PRODID:-//Zinor / Collectif Icroacoa Montaigu - ECPv6.10.1.1//NONSGML v1.0//EN
CALSCALE:GREGORIAN
METHOD:PUBLISH
X-WR-CALNAME:Zinor / Collectif Icroacoa Montaigu
X-ORIGINAL-URL:https://zinor.fr
X-WR-CALDESC:Évènements pour Zinor / Collectif Icroacoa Montaigu
REFRESH-INTERVAL;VALUE=DURATION:PT1H
X-Robots-Tag:noindex
X-PUBLISHED-TTL:PT1H
BEGIN:VTIMEZONE
TZID:UTC
BEGIN:STANDARD
TZOFFSETFROM:+0000
TZOFFSETTO:+0000
TZNAME:UTC
DTSTART:20130101T000000
END:STANDARD
END:VTIMEZONE
BEGIN:VEVENT
DTSTART;TZID=UTC:20130907T160000
DTEND;TZID=UTC:20130907T230000
DTSTAMP:20260421T115247
CREATED:20160811T072429Z
LAST-MODIFIED:20161005T094848Z
UID:7819-1378569600-1378594800@zinor.fr
SUMMARY:07 09 2013 ZINORDAY : Le ZINOR fête ses 1 an !
DESCRIPTION:Après l’inauguration de la salle l’année dernière\, le collectif Icroacoa et ses 14 associations se préparent maintenant à fêter le premier anniversaire du Zinor !\nSpectacles Jeune Public\n16h30 : Cécile (Conte – à partir de 6 ans)\n17h30 : Contes du Ciel (Marionnettes et ombres- 3/6 ans)\nAu fil de ses disparitions\, la lune de « Contes du Ciel » enseigne aux petits les vertus de la patience et de l’humilité. Car qui peut forcer les cycles de l’astre nocturne ? Qui peut prétendre accélérer l’alternance des jours et des nuits ou la course des nuages dans le ciel ? \nfacebook \n18h30 : Tak’O’Solo (Percussions Burlesques – à partir de 4 ans)\nTak’o’solo se situe à mi-chemin entre théâtre\, conte\, marionnettes\, musique et performance artistique\, et aborde avec légèreté les sujets tels que l’environnement et le droit à la différence . C’est un spectacle joué à partir d’objets de récupération\, tout droits sortis d’un garage ou d’un tacot (d’où le nom)\, qui mêle humour et poésie\, dans lequel l’artiste interprète des reprises de chansons françaises (C.Nougaro\, N. Ferrer\, les Frères Jacques ) et des compositions personnelles ainsi que\, bien sûr\, des morceaux de percussions. \nsite \n[youtube ScETid5VE3E] \nConcerts\n SCÈNE EXTÉRIEURE :\n18h : R*Uno (World Black Music – Paris)\nSuite aux nombreuses agressions sonores dont il a été victime depuis sa plus tendre adolescence\, après Paris et Sarajevo\, il accepte de relever le défi chez les ploucs sous un pseudonyme crypté et pour cause : R*uno. A l’opposé des musiques électroniques\, deux platines et sa collection de galettes pour un séjour montacutain risqué et en deux temps à travers la richesse des folklores du monde ! \n19h45 : Palm (Folk Rock – Vannes)\nRejeton d’un groupe garage des années 90\, le duo fondateur de Palm émigre au début des années 2000\, ébauche rapidement son premier EP\, s’installe dans le folk\, le lo-fi et la poussière rouge\, joue\, accueille de nouveaux membres et finit par s’accorder sur ce desert-city-rock inspiré du Crazy Horse\, de Calexico et de Magnolia Electric & Co. \nsite – >facebook – bandcamp \n21h15 : MP1point2 (Chanson Hip-Hop Electro – Toulouse)\nDans la lignée de groupes comme JAVA\, Zebda\, IAM ou M.A.P.\, les deux MCs et les deux machinistes jouent avec les aprioris et griffent leur style grâce à un sens de la formule aiguisé et à des compositions alliant beats percutants\, groove et influences éclectiques. \nsite – facebook – bandcamp \n[youtube PUnRB-Bo6j0] \n22h45 : Gay & Proud (Fast Punk – Montaigu)\n23h45 : Watertank (Post Hardcore Heroes – Nantes)\n« On a ici affaire au gros son impeccable d’un groupe aux influences metal/punk/pop/noise bien digérées\, au style joyeusement décomplexé » Viol Auditiffacebook – bandcamp \n[youtube nubLA1VO3i8] \nSCÈNE INTÉRIEURE :\n21h : Mr Chose (Hip-Hop Funk – Nantes)\n22h : Dub Lyn (Dub – Local)\nfacebook \nDepuis Janvier 2013 la dub Montacutaine s’est réveillée. Dublyn c’est de l’électro dub Vendéenne\, de la bonne\, de la saine. \n23h : Tomawok + DJ  (Raggamuffin – Angers)\nTomawok\, c’est l’art de mêler raggamuffin\, fast style\, good vibes et conscious lyrics\, en français\, en Español\, avec un soupçon de yardie et une pointe de Bambara! à la sauce indienne bien sur! \nfacebook \n[youtube b1up18inABU] \n00h00 :  DJ Redux (Electro Techno – Nantes)\nTHE DJ Redux de la team Sweatlodge ! Autant dire que ça va envoyer sévère ! \nfacebook \nINFORMATIONS :\nSamedi 7 Septembre 2013 / 16h-02h \nZinor\, Z.I.NORD\, Rue du Moulin Gros\, 85600 MONTAIGU \nPrix : à partir de 16h00 : entrée libre / à partir de 20h00 : 6 euros \nRenseignements: collectif.icroacoa@gmail.com // www.zinor.fr // 09 50 64 19 26 // facebook
URL:https://zinor.fr/a-faire/07-09-2013-zinorday-le-zinor-fete-ses-1-an/
LOCATION:Le Zinor\, 191\, rue du Moulin Gros\, ZA Nord et Gare\, Montaigu-Vendée\, 85600\, France
CATEGORIES:Au Zinor
END:VEVENT
BEGIN:VEVENT
DTSTART;TZID=UTC:20130907T180000
DTEND;TZID=UTC:20130907T230000
DTSTAMP:20260421T115247
CREATED:20160811T072432Z
LAST-MODIFIED:20161005T081234Z
UID:7836-1378576800-1378594800@zinor.fr
SUMMARY:Zinor Day (07 Septembre 2013)
DESCRIPTION:
URL:https://zinor.fr/a-faire/zinor-day-07-septembre-2013/
LOCATION:Le Zinor\, 191\, rue du Moulin Gros\, ZA Nord et Gare\, Montaigu-Vendée\, 85600\, France
CATEGORIES:Au Zinor
END:VEVENT
BEGIN:VEVENT
DTSTART;TZID=UTC:20130920T180000
DTEND;TZID=UTC:20130921T230000
DTSTAMP:20260421T115247
CREATED:20160811T072429Z
LAST-MODIFIED:20161005T095103Z
UID:7821-1379700000-1379804400@zinor.fr
SUMMARY:20/21 09 2013 AINUFEST
DESCRIPTION:VENDREDI 20 SEPTEMBRE\nMinimal Bougé – Progression lente (fr) \nvimeo \nBrio – Free Bordelo (hr) \nmyspace \nWhoresnation – Grind Freaks (fr) \nsite / bandcamp \n Two Apes – Jungle Noise (fr/be) \nsite / facebook / bandcamp \nTigrova Mast – Jazz cuivré (hr) \nsoundcloud \nOvo – Caveman Doom (it) \nmyspace \n The Arson Project – Total Fucking Destruction (se) \nmyspace /facebook \n Françoise Pagan – Techno Froide (fr) \nbandcamp /facebook \n  \nSAMEDI 21 SEPTEMBRE\n Deep Purcell – Noise à Chat (fr) \nsite \n Dure Mère – Tango Punk (fr) \nsite / bandcamp \n The Austrasian Goat – Métal Noir de la Mort (fr) \nbandcamp \n Burning Bright – Mélodies à Clous (fr) \nbandcamp \n Strong As Ten – Bandanas Vieille Ecole (fr) \nsite \n Harshlove – Prog Acid House (fr) \nbandcamp \n Selman Belinsky – Dark love (fr) \nfacebook / bandcamp \nAcid Bonanga – Krautzouk (fr) \n Hombre Malo – Heavy Music (no) \nfacebook \n Will Guthrie & Jean Philipe Gross – Jazz from Hell (au/be) \nsite \n Brame – Indus Bac à Sable (fr) \nsite / bandcamp \n Presque Maudit – Prog Metal Heroes (fr) \nsite \nhttp://www.youtube.com/watch?v=GwoWGSOIU7M \n Le Cercle Des Mallissimalistes – Univers Zero (fr) \nsite \n Moms On Meth – Fastcore Amphétaminé (Fr) \nbandcamp /site \nINFOS\nVendredi 20 Septembre : 10€ // 19h \nSamedi 21 Septembre 15€ // 13h \n20€ les deux jours \nResto // Bar // Distro // Camping sur place \nEvenement Facebook \n 
URL:https://zinor.fr/a-faire/2021-09-2013-ainufest/
LOCATION:Le Zinor\, 191\, rue du Moulin Gros\, ZA Nord et Gare\, Montaigu-Vendée\, 85600\, France
CATEGORIES:Au Zinor
ORGANIZER;CN="A%C3%AFnu":MAILTO:ainurecord@live.fr
END:VEVENT
BEGIN:VEVENT
DTSTART;TZID=UTC:20130928T190000
DTEND;TZID=UTC:20130928T230000
DTSTAMP:20260421T115247
CREATED:20160811T072429Z
LAST-MODIFIED:20161005T095148Z
UID:7822-1380394800-1380409200@zinor.fr
SUMMARY:28 09 2013 Forge A Show !!!
DESCRIPTION:Samedi 28 septembre 2013\, l’association « La Forge » organise son premier événement à  l’espace Agapé. Un événement rassemblant quatre groupes de l’univers rock.The Chicks\, jeunes groupes de rock vendéen/breton.\nNora\, un trio expérimenté qui présentera ses compositions de rock français.\nThe Ones\, gagnant du dernier tremplin du Festival de Poupet\, vous proposera un son pop rock assumé.\nEnfin\, I’m not even a DJ\, un groupe à l’apparence masquée terminera la soirée par un set Electro/Dubstep/Rock.\nVenez Nombreux ! \nTHE CHICKS (Rock – Vendée/Bretagne) \nfacebook \nNORA (Rock) \nNora c’est un trio rock \,des textes en français\, 10 ans d’existence\, et une bonne centaine de concerts dans l’ouest avec des premières parties comme celles de PLEYMO ou CHARLELIE COUTURE. \nzikcard \, facebook \nTHE ONES (Pop-rock) \nJeune quatuor de trois ans\, THE ONES disposent pourtant d’une réelle maturité\, chaque membre ayant roulé auparavant sa bosse dans diverses formations… Chansons calibrées\, jeu maîtrisé\, mélodies entêtantes\, ces fab four de la west coast nous envoient une pop assumée\, aux envolées planantes\, mais s’appuyant également sur un engrenage rythmique clairement rock. Quelque part entre Radiohead et les Arctic Monkeys.Passé en première partie de Skip the use et Bloc Party! \nfacebook \n[youtube 84Ds1_bReVg] \nI’M NOT EVEN A DJ (Electro-dubstep) \nIls sont quatre à s’être réunis autour d’une passion commune : l’électro-dubstep. Une batteuse E-drums (Miss A.)\, un batteur acoustique (Master G.)\, un guitariste électrique (Myster E.) et un sampler-programmateur keyboards et voix vocodée (Sir P.)\, un groupe à l’apparence masquée qui emmène les spectateurs vers d’autres destinées musicales.\nBercé par des artistes tels que Skrillex\, The Bloody Beetroots\, Fat Boy Slim\, Prodigy\, Dead Mau5\, Chemical Brothers\, I’m Not Even A Dj (I.A.N.E.A.D.J.) distille une musique originale\, énergique et créative. \nfacebooks \, site \n[youtube bbW68JsaAL8] \nINFOS \nà partir de 19h / 6€ / Espace Agapé à la Guyonnière / laforge.association@gmail.com \n 
URL:https://zinor.fr/a-faire/28-09-2013-forge-a-show/
LOCATION:la Guyonnière
CATEGORIES:Hors Zinor
END:VEVENT
BEGIN:VEVENT
DTSTART;TZID=UTC:20130929T150000
DTEND;TZID=UTC:20130929T190000
DTSTAMP:20260421T115247
CREATED:20160811T072430Z
LAST-MODIFIED:20161005T094118Z
UID:7823-1380466800-1380481200@zinor.fr
SUMMARY:29 09 2013 Urbanino
DESCRIPTION:Attaché aux valeurs de partage et de transmission aux jeunes\, Urbano revient le Dimanche 29 Septembre de 15h à 19h dans sa commune natale de Boufféré avec un événement cher à la population locale et GRATUIT : Urbaniño.\nDédié aux enfants\, aux jeunes et à leurs familles\, Urbaniño est un moment de découverte et de convivialité autour de la culture Hip-Hop et plus généralement des disciplines urbaines. Mais pas que ! Nous avons pensé à tout le monde… \nLes amateurs les plus sportifs vont pouvoir s’essayer au Breakdance\, au Street Foot\, au Bike Polo ou au VTT Trial. Pour les artistes en herbe\, il sera vivement conseillé de tester les bombes de peinture aux ateliers Graffiti et Pochoirs ou les nombreux objets du stand Jonglerie. Si vous avez le rythme dans la peau\, il faudra vous laisser tenter par le microphone pour faire du Human Beatbox ou aller tâter les instruments de Percussions. \nPour faire plaisir à tous les jeunes\, nous avons invité un chamelier et ses deux dromadaires qui vous emmèneront faire une petite balade. Pour les moins jeunes\, un grand concours de Palet sera organisé en collaboration avec le Palet Club de Boufféré. Urbaniño\, de belles rencontres au programme ! \nATELIERS ET ACTIVITÉS \n– Breakdance / Danse Hip-Hop \n– Graffiti / Pochoirs \n– Human Beatbox / Percussions \n– Street Foot \n– Bike Polo / VTT Trial \n– Jonglerie- Balades de dromadaires \n– Grand concours de palet en collaboration avec le Palet Club de Boufféré \nINFOS PRATIQUES \nÉvénement Gratuit \nDate > Dimanche 29 Septembre 2013 \nLieu > Espace Magnolias – Rue Notre Dame – 85600 BOUFFÉRÉ \nHoraires > de 15h00 à 19h00 \nCONTACT \n Tél > 02 51 46 48 99 \nMail > info@urbano.fr \nFacebook > Urbano Festival
URL:https://zinor.fr/a-faire/29-09-2013-urbanino/
CATEGORIES:Hors Zinor
END:VEVENT
END:VCALENDAR