BEGIN:VCALENDAR
VERSION:2.0
PRODID:-//Zinor / Collectif Icroacoa Montaigu - ECPv6.10.1.1//NONSGML v1.0//EN
CALSCALE:GREGORIAN
METHOD:PUBLISH
X-WR-CALNAME:Zinor / Collectif Icroacoa Montaigu
X-ORIGINAL-URL:https://zinor.fr
X-WR-CALDESC:Évènements pour Zinor / Collectif Icroacoa Montaigu
REFRESH-INTERVAL;VALUE=DURATION:PT1H
X-Robots-Tag:noindex
X-PUBLISHED-TTL:PT1H
BEGIN:VTIMEZONE
TZID:UTC
BEGIN:STANDARD
TZOFFSETFROM:+0000
TZOFFSETTO:+0000
TZNAME:UTC
DTSTART:20130101T000000
END:STANDARD
END:VTIMEZONE
BEGIN:VEVENT
DTSTART;TZID=UTC:20131106T180000
DTEND;TZID=UTC:20131106T230000
DTSTAMP:20260421T085612
CREATED:20160811T072433Z
LAST-MODIFIED:20161005T075711Z
UID:7840-1383760800-1383778800@zinor.fr
SUMMARY:06 11 2013 SAX RUINS + UZ JSME DOMA
DESCRIPTION:The « Fairy Tales From Yawiquo » tour\n \n  \n  \n  \n  \nSAX RUINS vs RUINS ALONE vs ONO RYOKO (Jazz Core Progressif\, Japon) \n http://ipecac.com/artists.php/sax_ruins \n[youtube G96jvLZvAXs] \n UZ JSME DOMA (Punk Rock Legend\, Rep Tchèque)\n http://www.uzjsmedoma.com/ \n[youtube 4fOOTA9AbfE] \nINFOS\n20h30 / 6€ / ainu@live.fr \n  \n 
URL:https://zinor.fr/a-faire/06-11-2013-sax-ruins-uz-jsme-doma/
LOCATION:Le Zinor\, 191\, rue du Moulin Gros\, ZA Nord et Gare\, Montaigu-Vendée\, 85600\, France
CATEGORIES:Au Zinor
ORGANIZER;CN="A%C3%AFnu":MAILTO:ainurecord@live.fr
END:VEVENT
BEGIN:VEVENT
DTSTART;TZID=UTC:20131106T180000
DTEND;TZID=UTC:20131106T230000
DTSTAMP:20260421T085612
CREATED:20160811T072437Z
LAST-MODIFIED:20161004T160758Z
UID:7849-1383760800-1383778800@zinor.fr
SUMMARY:« Fairy Tails from Yawiquo » Tour (6 Novembre 2013)
DESCRIPTION:
URL:https://zinor.fr/a-faire/fairy-tails-from-yawiquo-tour-6-novembre-2013/
END:VEVENT
BEGIN:VEVENT
DTSTART;TZID=UTC:20131108T180000
DTEND;TZID=UTC:20131108T230000
DTSTAMP:20260421T085612
CREATED:20160811T072433Z
LAST-MODIFIED:20161005T080059Z
UID:7842-1383933600-1383951600@zinor.fr
SUMMARY:08 11 2013 Urbano Tour #7
DESCRIPTION:HIP-HOP PARTY : Peace\, Unity\, Love & Having Fun\n\n« Peace\, Unity\, Love & Having Fun » : véritable devise de la Culture urbaine\, c’est dans cet esprit positif qu’Urbano vous propose sa toute première soirée Hip-Hop au Zinor à Montaigu avec un programme live rythmé et coloré. \n20h45 – Negrodiox – Vainqueur Buzz Booster Vendée\nLe tout récent vainqueur du Buzz Booster Vendée\, étape départementale (18 octobre au Fuzz’Yon à la Roche sur Yon) du tremplin rap national\, viendra nous présenter son univers avant d’aller défendre le Hip-Hop vendéen à la finale régionale \n \n\n\n\n\n\n\n\n\n\n\n21h45 – Mic Breathe – Human Beatbox\nAprès avoir enflammé la 1ère partie du concert de IAM à Poupet\, le beatboxer Mic Breathe va retourner le ZINOR à coups de pépites sonores. \n \n22h45 > Scarecrow – Blues Hip-Hop\nPuis ce sera au tour de nos amis toulousains Scarecrow qui ont littéralement séduit le public d’Urbano en juin 2012 avec leur blues hip-hop si sexy. Une belle et surprenante découverte à ne manquer sous aucun prétexte\, coup de cœur ! \n[youtube -co9IfGNDjA] \n00h30 – DJ Don’s – Jazzy & Old School Hip-Hop\nEnfin\, DJ Don’s nous fera inévitablement danser sur ses sélections teintées de jazz et de hip-hop US à l’ancienne ! \n \n\nPROGRAMME\n20h00 > Ouverture des portes\n20h45 > 21h15 > Vainqueur Buzz Booster Vendée (tremplin rap national)\n21h45 > 22h15 > Mic Breathe (human beatbox)\n22h45 > 00h00 > Scarecrow (blues hip-hop)\n00h30 > 01h30 > DJ Don’s (jazzy & old school hip-hop)\n01h30 > 02h00 > Freestyle (boeuf musical hip-hop)\n\nBILLETTERIE\nTarifs > Normal 6€ / Adhérent Urbano 4€\nPass Culture et Sport accepté\nBilletterie et restauration sur place\nRéservation > weezevent.com – urbano.fr\n\nINFORMATIONS\nTél. 06 14 31 62 23\nEmail. info@urbano.fr\nFacebook : www.facebook.com/UrbanoFestival\nTwitter : www.twitter.com/UrbanoFestival\n\n\n\n\n 
URL:https://zinor.fr/a-faire/08-11-2013-urbano-tour-7/
LOCATION:Le Zinor\, 191\, rue du Moulin Gros\, ZA Nord et Gare\, Montaigu-Vendée\, 85600\, France
CATEGORIES:Au Zinor
END:VEVENT
BEGIN:VEVENT
DTSTART;TZID=UTC:20131109T180000
DTEND;TZID=UTC:20131109T230000
DTSTAMP:20260421T085612
CREATED:20160811T072433Z
LAST-MODIFIED:20161005T080212Z
UID:7843-1384020000-1384038000@zinor.fr
SUMMARY:09 11 2013 SOIREE AINU / AMERTUME
DESCRIPTION:GASMASK TERRÖR (d.beat masters // BORDEAUX)\n[youtube BqXZNN8HHBc] \nbandcamp \nHARSHLOVE (darkwave & ultra beat // BORDEAUX)\n[youtube QePl4SYj-Nk] \nbandcamp \nGUN’S & GÄNSEBLÜMCHEN (post punk noise rock // FRANCE – ALLEMAGNE)\nsite \nTAPE OR DIE  (punk hardcore // BORDEAUX)\n[youtube J74pDqzWld8] \nUSURE  (crust // BORDEAUX )\n\n<a \nBAKOUNINE (punk crust // BZH)\nsite \nFRANCOISE PAGAN (electro LO.FI // NANTES)\n[youtube GAF6m4L2oZ0] \nhttp://francoisepagan.bandcamp.com/\n<a \nAME AGARI (post hc punk // LE MANS)\n  \nINFOS\nAtelier de Bitche / 3 rue de BITCHE / 44000 NANTES\n6€ / 19h-1h / ainu@live.fr
URL:https://zinor.fr/a-faire/09-11-2013-soiree-ainu-amertume/
CATEGORIES:Hors Zinor
ORGANIZER;CN="A%C3%AFnu":MAILTO:ainurecord@live.fr
END:VEVENT
BEGIN:VEVENT
DTSTART;TZID=UTC:20131109T180000
DTEND;TZID=UTC:20131109T230000
DTSTAMP:20260421T085612
CREATED:20160811T072438Z
LAST-MODIFIED:20161004T160715Z
UID:7854-1384020000-1384038000@zinor.fr
SUMMARY:Urbano Tour #8 (Vendredi 9 Novembre 2013)
DESCRIPTION:
URL:https://zinor.fr/a-faire/urbano-tour-8-vendredi-9-novembre-2013/
END:VEVENT
BEGIN:VEVENT
DTSTART;TZID=UTC:20131115T190000
DTEND;TZID=UTC:20131115T230000
DTSTAMP:20260421T085612
CREATED:20160811T072433Z
LAST-MODIFIED:20161005T075929Z
UID:7841-1384542000-1384556400@zinor.fr
SUMMARY:15 11 2013 RELEASE PARTY
DESCRIPTION:Réglisse Asso et Les Atelier du 3bis présentent\nONE THOUSAND DIRECTIONS (Punk-Rock / Aigrefeuille)\nRelease Party du premier album « Minuscule Lives » \nbandcamp/facebook \n THE ATTENDANTS (Punk-Rock / Treillières)\nbandcamp/facebook \n STINKY BOLLOCKS (Punk-Hardcore / Clisson)\nbandcamp/https://www.facebook.com/pages/Stinky-Bollocks/146725985378383?fref=ts \n OMAHAS (Punky Funk Rock / La Gerbaudière)\nbandcamp/facebook \n ZUCCHINI (OMNI Post-Rock / Aigrefeuille-Angers)\nbandcamp \n+ Pimp My Lasagne + Stands surprise ! \n INFOS\n19h / 5€
URL:https://zinor.fr/a-faire/15-11-2013-release-party/
LOCATION:Le Zinor\, 191\, rue du Moulin Gros\, ZA Nord et Gare\, Montaigu-Vendée\, 85600\, France
CATEGORIES:Au Zinor
END:VEVENT
BEGIN:VEVENT
DTSTART;TZID=UTC:20131117T180000
DTEND;TZID=UTC:20131119T230000
DTSTAMP:20260421T085612
CREATED:20160811T072433Z
LAST-MODIFIED:20161005T081124Z
UID:7847-1384711200-1384902000@zinor.fr
SUMMARY:17 et 19 11 2013 ALTEROFILM : SAMSARA
DESCRIPTION:Alterofilm remet le couvert avec la projection du film Samsara (suite du mirifique Baraka)\, film de Ron Fricke et Mark Magidson.« Samsara est un mot tibétain qui signifie «roue de la vie»\, concept à la fois intime et vaste qui définit l’âme de chacun. Pendant quatre ans\, Ron Fricke a parcouru plus de vingt pays dont le Japon\, l’Éthiopie\, l’Égypte\, la Palestine et la Turquie pour traiter de ses thèmes de prédilection : l’interconnexion et la transcendance du monde vivant. Comme pour Baraka\, il a entièrement tourné son film en pellicule 70mm (Super Panavision 65). Immanquable. » \n[youtube l7F-rRSD-no] \nINFOS \n20h30 / Gratuit / ARTSONIC \n 
URL:https://zinor.fr/a-faire/17-et-19-11-2013-alterofilm-samsara/
LOCATION:Le Zinor\, 191\, rue du Moulin Gros\, ZA Nord et Gare\, Montaigu-Vendée\, 85600\, France
CATEGORIES:Au Zinor
END:VEVENT
BEGIN:VEVENT
DTSTART;TZID=UTC:20131130T180000
DTEND;TZID=UTC:20131130T230000
DTSTAMP:20260421T085612
CREATED:20160811T072438Z
LAST-MODIFIED:20161004T144831Z
UID:7850-1385834400-1385852400@zinor.fr
SUMMARY:30 11 2013 FESTIVAL LES HILAIRANTES  #1
DESCRIPTION:Festival Les Hilairantes\nLors de cette soirée\, les jeunes talents de la région auront 10 min pour séduire lepublic et avoir la chance de faire la première partie de Baptiste Lecaplain. \nINFOS \n5€ / 21h
URL:https://zinor.fr/a-faire/30-11-2013-festival-les-hilairantes-1/
LOCATION:Le Zinor\, 191\, rue du Moulin Gros\, ZA Nord et Gare\, Montaigu-Vendée\, 85600\, France
CATEGORIES:Au Zinor
END:VEVENT
END:VCALENDAR