BEGIN:VCALENDAR
VERSION:2.0
PRODID:-//Zinor / Collectif Icroacoa Montaigu - ECPv6.10.1.1//NONSGML v1.0//EN
CALSCALE:GREGORIAN
METHOD:PUBLISH
X-WR-CALNAME:Zinor / Collectif Icroacoa Montaigu
X-ORIGINAL-URL:https://zinor.fr
X-WR-CALDESC:Évènements pour Zinor / Collectif Icroacoa Montaigu
REFRESH-INTERVAL;VALUE=DURATION:PT1H
X-Robots-Tag:noindex
X-PUBLISHED-TTL:PT1H
BEGIN:VTIMEZONE
TZID:UTC
BEGIN:STANDARD
TZOFFSETFROM:+0000
TZOFFSETTO:+0000
TZNAME:UTC
DTSTART:20140101T000000
END:STANDARD
END:VTIMEZONE
BEGIN:VEVENT
DTSTART;TZID=UTC:20140111T190000
DTEND;TZID=UTC:20140111T230000
DTSTAMP:20260421T054837
CREATED:20160811T072439Z
LAST-MODIFIED:20161004T144203Z
UID:7855-1389466800-1389481200@zinor.fr
SUMMARY:11 01 2014 SOIREE ELECTRO : CANASOUND !
DESCRIPTION:Psy4x (Membre Du Collectif Kurauditiv\, Minimal Tek)Nox Mad (Drumstep) \nChris (Hardtek) \n INFOS \n21h / Prix libre / sonidart85@gmail.com / SONID’ART
URL:https://zinor.fr/a-faire/11-01-2014-soiree-electro-canasound/
LOCATION:Le Zinor\, 191\, rue du Moulin Gros\, ZA Nord et Gare\, Montaigu-Vendée\, 85600\, France
CATEGORIES:Au Zinor
END:VEVENT
BEGIN:VEVENT
DTSTART;TZID=UTC:20140118T180000
DTEND;TZID=UTC:20140118T230000
DTSTAMP:20260421T054837
CREATED:20160811T072439Z
LAST-MODIFIED:20161004T144341Z
UID:7857-1390068000-1390086000@zinor.fr
SUMMARY:18 01 2014 FESTIVAL LES HILAIRANTES ♯ 2 : DIABOLOS NANTES
DESCRIPTION:Pour la seconde fois la troupe des Diabolos Nantes Impro viendra faire étalage de ses talents d’improvisation. En tant qu’ amateurs « inspirés et givrés »\, le Zanzibar sera leur terrain de jeu ! \nINFOS \n20h30 / Entrée libre / Zanzibar – Saint-Hilaire-de-Loulay / HEYOKA \n  \n  \n 
URL:https://zinor.fr/a-faire/18-01-2014-festival-les-hilairantes-%e2%99%af-2-diabolos-nantes/
LOCATION:Saint-Hilaire-de-Loulay
CATEGORIES:Hors Zinor
END:VEVENT
BEGIN:VEVENT
DTSTART;TZID=UTC:20140124T180000
DTEND;TZID=UTC:20140124T230000
DTSTAMP:20260421T054837
CREATED:20160811T072439Z
LAST-MODIFIED:20161004T144427Z
UID:7858-1390586400-1390604400@zinor.fr
SUMMARY:24 01 2014 FESTIVAL LES HILAIRANTES ♯ 3 : DANIEL CAMUS
DESCRIPTION:Camus comme Albert : rien à voir\, Camus comme l’ancien producteur de Johnny : rien à voir non plus. Peut-être qu’un jour les autres Camus diront « Camus comme Daniel : rien à voir ». Il est pertinent\, beau\, mais pas trop et en plus il est propre…alors adoptez-le ! \nDéjà 20 000 spectateurs avec son spectacle « Adopte »\, joué régulièrement à la Compagnie du Café-théâtre de Nantes mais aussi à Paris\, à Lille\, à Lyon… \n[youtube 7qntNGk7Poo] RESAS  www.billetreduc.com \nINFOS \n20h30 / 10€ / assoheyoka@yahoo.fr / HEYOKA
URL:https://zinor.fr/a-faire/24-01-2014-festival-les-hilairantes-%e2%99%af-3-daniel-camus/
CATEGORIES:Au Zinor
END:VEVENT
END:VCALENDAR